Workbook

Sheet MODELO DE PLANILHA
A1: MEMÓRIA DE CÁLCULO PARA PREENCHIMENTO DA PLANILHA DE COMPOSIÇÃO DE CUSTOS
A2: Nota 1: A planilha será calculada considerando o valor mensal do empregado.
A3: IDENTIFICAÇÃO DO SERVIÇO
A4: Item do TR | B4: Descrição | D4: Carga Horária | E4: Salário
A5: 1 | B5: Prestação dos serviços de Motorisa Especial para a condução de veículos autorizados pela UFSB. | D5: 44h semanais | E5: 1983
A6: Nota 2: Para composição da planilha de custos deverá ser cosnsiderado o valor do salário previsto na Convenção Coletiva Vigente.
A8: MÓDULO 1 - COMPOSIÇÃO DA REMUNERAÇÃO
A9: Submódulo 1.1 - Remuneração
A10: Item | B10: Descrição | C10: Memória de Cálculo | D10: Percentual % | E10: Valor (R$)
A11: A | B11: Salário-Base | C11: Salário Normativo da Categoria | E11: =E5 -> 1983
A12: B | B12: Gratificação | C12: Item 7.1.6.2 do TR | D12: 0.15 | E12: =ROUND((D12*E5),2) -> 297.45
A13: C | B13: Outros (especificar)
A14: Total do Submódulo 1.1 | E14: =ROUND(SUM(E11:E13),2) -> 2280.45
A15: Nota 3: O módulo 1.1 refere-se aos pagamentos de natureza remuneratória previstos em convenção ou exigidos pelo órgão gerenciador.
A17: Submódulo 1.2 - Pagamentos sem natureza remuneratória
A18: Item | B18: Descrição | D18: Percentual % | E18: Valor (R$)
A19: A | B19: Adicional de Antiguidade | C19: Previsão na CCT | D19: 0.05 | E19: =ROUND(D19*E14,2) -> 114.02
A20: B | B20: Participação nos Lucros ou Resultados | C20: Previsão na CCT | E20: =326/12 -> 27.166667
A21: C | B21: Outros (especificar)
A22: Total do Submódulo 1.2 | E22: =ROUND(SUM(E19:E21),2) -> 141.19
A23: Nota 4: O Módulo 1.2 refere-se aos pagamentos sem natureza remuneratória previstos em convenção.
A25: Quadro-Resumo do Módulo 1 - Composição da Remuneração
A26: Item | B26: Encargos e Benefícios Anuais, Mensais e Diários | E26: Valor (R$)
A27: 1.1 | B27: Remuneração | C27: Submódulo 1.1 | E27: =E14 -> 2280.45
A28: 1.2 | B28: Pagamentos sem natureza remuneratória e incidência | C28: Submódulo 1.2 | E28: =E22 -> 141.19
A29: TOTAL DO MÓDULO 1 | E29: =SUM(E27:E28) -> 2421.64
A31: MÓDULO 2 - Encargos e Benefícios Anuais, Mensais e Diários
A32: Submódulo 2.1 - 13º (décimo terceiro) Salário, Férias e Adicional de Férias | D32: Percentual % | E32: Valor (R$)
A33: A | B33: 13º (décimo terceiro) Salário | C33: (1/12)*100 = 8,33% | D33: 0.0833 | E33: =ROUND(($E$14*D33),2) -> 189.96
A34: B | B34: Adicional de Férias | C34: [(1/12)/3*100) = 2,78% | D34: =1/12/3 -> 0.027777778 | E34: =ROUND(($E$14*D34),2) -> 63.35
A35: Total do Submódulo 2.1 | D35: =SUM(D33:D34) -> 0.11107778 | E35: =ROUND(SUM(E33:E34),2) -> 253.31
A36: Nota 5: Aprovisiona-se o valor correspondente a 1/12 (um doze avos) dos valores referentes à gratificação natalina e adicional de férias.
A37: Nota 6: O adicional de férias contido no Submódulo 2.1 corresponde a 1/3 (um terço) da remuneração que por sua vez é dividido por 12 (doze) conforme Nota 5.
A39: BASE DE CÁLCULO PARA O MÓDULO 2.2
A40: Submódulo 1.1 + Submódulo 2.1 | E40: =E14+E35 -> 2533.76
A41: Submódulo 2.2 - Encargos Previdenciários (GPS), Fundo de Garantia por Tempo de Serviço (FGTS) e outras contribuições | D41: Percentual % | E41: Valor (R$)
A42: A | B42: INSS (Previdência Social) | C42: Art. 22, Inciso I, da Lei nº 8.212/91. | D42: 0.2 | E42: =ROUND(($E$40*D42),2) -> 506.75
A43: B | B43: SESI ou SESC | C43: Art. 3º, Lei n.º 8.036/90. | D43: 0.015 | E43: =ROUND(($E$40*D43),2) -> 38.01
A44: A | B44: SENAI OU SENAC | C44: Decreto n.º 2.318/86. | D44: 0.01 | E44: =ROUND(($E$40*D44),2) -> 25.34
A45: B | B45: INCRA | C45: Lei n.º 7.787/89 e DL n.º 1.146/70. | D45: 0.002 | E45: =ROUND(($E$40*D45),2) -> 5.07
...

Sheet PROPOSTA
A1: PLANILHA DE CUSTOS E FORMAÇÃO DE PREÇOS
A2: Processo nº
A3: Licitação nº
A4: Data da apresentação da proposta (dia/mês/ano):
A5: Data de apresentação da proposta (mês/ano)
A6: Ano Acordo, Convenção ou Sentença Normativa em Dissídio Coletivo: 2019/2020
A7: Nº de meses de execução contratual: 30 meses
A8: Mão de obra vinculada à execução Contratual: Dedicação Exclusiva
A9: Identificação do Serviço: PRESTAÇÃO CONTINUADA DE SERVIÇOS DE CONDUÇÃO DE VEÍCULOS.
A10: Data Base da Categoria (dia/mês/ano): 1º de Maio
A11: PLANILHA DE COMPOSIÇÃO DE CUSTOS E FORMAÇÃO DE PREÇOS
A12: MÃO DE OBRA VINCULADA À EXECUÇÃO CONTRATUAL
A13: Item | B13: Descrição | C13: Und. de Medida | D13: Valor Unit. | E13: Qtd. Mensal | F13: Valor Mensal | G13: Qtd. Anual | H13: Valor Anual | I13: Qtd. Total (30 meses) | J13: Total
A14: 1 | B14: Serviço de Motorista Especial para condução de veículos autorizados pela UFSB. | C14: Posto Mensal | D14: ='01. Motorista Especial'!D129 -> 0 | E14: 2 | F14: =E14*D14 -> 0 | G14: =E14*12 -> 24 | H14: =G14*D14 -> 0 | I14: =E14*30 -> 60 | J14: =I14*D14 -> 0
A15: 2 | B15: Hora Extraordinária com adicional de 50% sobre as horas trabalhadas. | C15: Hora | D15: ='02. Hora 50%'!D129 -> 0 | E15: 12 | F15: =E15*D15 -> 0 | G15: =E15*12 -> 144 | H15: =G15*D15 -> 0 | I15: =E15*30 -> 360 | J15: =I15*D15 -> 0
A16: 3 | B16: Hora Extraordinária com adicional de 100% sobre as horas trabalhadas. | C16: Hora | D16: ='03. Hora 100%'!D129 -> 0 | E16: 8 | F16: =E16*D16 -> 0 | G16: =E16*12 -> 96 | H16: =G16*D16 -> 0 | I16: =E16*30 -> 240 | J16: =I16*D16 -> 0
A17: 4 | B17: Hora Noturna reduzida com adicional de 20% sobre as horas trabalhadas. | C17: Hora | D17: ='04. Hora Noturna'!D129 -> 0 | E17: 10 | F17: =E17*D17 -> 0 | G17: =E17*12 -> 120 | H17: =G17*D17 -> 0 | I17: =E17*30 -> 300 | J17: =I17*D17 -> 0
A18: 5 | B18: Serviço de Motorista I para condução de veículos autorizados pela UFSB. | C18: Posto Mensal | D18: ='05. Motorista I'!D129 -> 0 | E18: 10 | F18: =E18*D18 -> 0 | G18: =E18*12 -> 120 | H18: =G18*D18 -> 0 | I18: =E18*30 -> 300 | J18: =I18*D18 -> 0
A19: 6 | B19: Hora Extraordinária com adicional de 50% sobre as horas trabalhadas. | C19: Hora | D19: ='06. Hora 50%'!D129 -> 0 | E19: 150 | F19: =E19*D19 -> 0 | G19: =E19*12 -> 1800 | H19: =G19*D19 -> 0 | I19: =E19*30 -> 4500 | J19: =I19*D19 -> 0
A20: 7 | B20: Hora Extraordinária com adicional de 100% sobre as horas trabalhadas. | C20: Hora | D20: ='07. Hora 100%'!D129 -> 0 | E20: 80 | F20: =E20*D20 -> 0 | G20: =E20*12 -> 960 | H20: =G20*D20 -> 0 | I20: =E20*30 -> 2400 | J20: =I20*D20 -> 0
A21: 8 | B21: Hora Noturna reduzida com adicional de 20% sobre as horas trabalhadas. | C21: Hora | D21: ='08. Hora Noturna'!D129 -> 0 | E21: 160 | F21: =E21*D21 -> 0 | G21: =E21*12 -> 1920 | H21: =G21*D21 -> 0 | I21: =E21*30 -> 4800 | J21: =I21*D21 -> 0
A22: 9 | B22: Diárias (pernoite). | C22: Diária | D22: ='09. Diárias'!D128 -> 0 | E22: 48 | F22: =E22*D22 -> 0 | G22: =E22*12 -> 576 | H22: =G22*D22 -> 0 | I22: =E22*30 -> 1440 | J22: =I22*D22 -> 0
A23: TOTAL | F23: =SUM(F14:F22) -> 0 | H23: =SUM(H14:H22) -> 0 | J23: =SUM(J14:J22) -> 0
A24: VALOR ESTIMADO TOTAL (escrever o valor por extenso)
A25: OBSERVAÇÕES
A26: 1 | B26: No módulo 2 - Insumos de mão de obra o valor informado deverá ser o custo real do insumo (descontado eventualmente pago pelo empregado)
A27: 2 | B27: No módulo 4 - Encargos sociais e trabalhistas os percentauis incidem sobre a remuneração.
A28: 3 | B28: Em conformidade com a nova regra para o aviso prévio, definida na Lei nº 12.506/11, os anos subsequentes ao primeiro ano de contrato deverão considerar 03 dias para fins de aviso prévio até o limite de 12 dias.
A29: 4 | B29: Consoante jurisprudência consolidada do Tribunal de Contas da União, as licitantes deverão abster-se de incluir na planilha de custos e formação de preços os itens relativos à TREEINAMETNO/CAPACITAÇÃO e/ou RECICLAGEM DE PESSOAL E RESERVA TÉCNICA.
A30: 5 | B30: O licitante deve preencher o item Seguro Acidente de Trabalho e FAP do submódulo 4.1 da planilha de custo e formação de preço com o percentual apresentado no relatório SEFIP/GFIP, que será comprovado mediante a apresentação do relatóro GFIP ou outro documento apto a fazê-lo no momento do envio da proposta adequada ao lance vencedor.
A31: 6 | B31: O licitante deve elaborar sua proposta e, por conseguinte, sua planilha com base no regime de tributação ao qual estará submetido durante a execução do contrato.

Sheet 01. Motorista Especial
A1: PLANILHA DE CUSTOS E FORMAÇÃO DE PREÇOS
A2: Processo nº
A3: Licitação nº
A4: Data da apresentação da proposta (dia/mês/ano):
A5: Data de apresentação da proposta (mês/ano)
A6: Ano Acordo, Convenção ou Sentença Normativa em Dissídio Coletivo: 2019/2020
A7: Nº de meses de execução contratual: 30 meses
A8: Mão de obra vinculada à execução Contratual: Dedicação Exclusiva
A9: Identificação do Serviço: PRESTAÇÃO CONTINUADA DE SERVIÇOS DE CONDUÇÃO DE VEÍCULOS.
A10: Salário Normativo da Categoria Profissional: R$ 1.983,00
A11: Categoria profissional: Motorista de veículos pesados com capacidade de carga acima de 18.000 kg
A12: Data Base da Categoria (dia/mês/ano): 1º de Maio
A13: IDENTIFICAÇÃO DO SERVIÇO
A14: Item do TR | B14: Descrição | C14: Carga Horária | D14: Salário
A15: 1 | B15: Prestação dos serviços de Motorisa Especial para a condução de veículos autorizados pela UFSB. | C15: 44h semanais
A16: MÓDULO 1 - COMPOSIÇÃO DA REMUNERAÇÃO
A17: Submódulo 1.1 - Remuneração
A18: Item | B18: Descrição | C18: Percentual % | D18: Valor (R$)
A19: A | B19: Salário-Base | D19: =D15 -> 0
A20: B | B20: Gratificação | C20: 0.15 | D20: =ROUND((C20*D15),2) -> 0
A21: C | B21: Outros (especificar)
A22: Total do Submódulo 1.1 | D22: =ROUND(SUM(D19:D21),2) -> 0
A23: Submódulo 1.2 - Pagamentos sem natureza remuneratória
A24: Item | B24: Descrição | C24: Percentual % | D24: Valor (R$)
A25: A | B25: Adicional de Antiguidade | C25: 0.05 | D25: =ROUND(C25*D22,2) -> 0
A26: B | B26: Participação nos Lucros ou Resultados
A27: C | B27: Outros (especificar)
A28: Total do Submódulo 1.2 | D28: =ROUND(SUM(D25:D27),2) -> 0
A30: Quadro-Resumo do Módulo 1 - Composição da Remuneração
A31: Item | B31: Encargos e Benefícios Anuais, Mensais e Diários | D31: Valor (R$)
A32: 1.1 | B32: Remuneração | D32: =D22 -> 0
A33: 1.2 | B33: Pagamentos sem natureza remuneratória e incidência | D33: =D28 -> 0
A34: TOTAL DO MÓDULO 1 | D34: =SUM(D32:D33) -> 0
A36: MÓDULO 2 - Encargos e Benefícios Anuais, Mensais e Diários
A37: Submódulo 2.1 - 13º (décimo terceiro) Salário, Férias e Adicional de Férias | C37: Percentual % | D37: Valor (R$)
A38: A | B38: 13º (décimo terceiro) Salário | D38: =ROUND(($D$22*C38),2) -> 0
A39: B | B39: Adicional de Férias | D39: =ROUND(($D$22*C39),2) -> 0
A40: Total do Submódulo 2.1 | C40: =SUM(C38:C39) -> 0 | D40: =ROUND(SUM(D38:D39),2) -> 0
A42: BASE DE CÁLCULO PARA O MÓDULO 2.2
A43: Submódulo 1.1 + Submódulo 2.1 | D43: =D22+D40 -> 0
...

Sheet 02. Hora 50%
A1: PLANILHA DE CUSTOS E FORMAÇÃO DE PREÇOS
A2: Processo nº
A3: Licitação nº
A4: Data da apresentação da proposta (dia/mês/ano):
A5: Data de apresentação da proposta (mês/ano)
A6: Ano Acordo, Convenção ou Sentença Normativa em Dissídio Coletivo: 2019/2020
A7: Nº de meses de execução contratual: 30 meses
A8: Mão de obra vinculada à execução Contratual: Dedicação Exclusiva
A9: Identificação do Serviço: PRESTAÇÃO CONTINUADA DE SERVIÇOS DE CONDUÇÃO DE VEÍCULOS.
A10: Salário Normativo da Categoria Profissional: R$ 1.983,00
A11: Categoria profissional: Motorista de veículos pesados com capacidade de carga acima de 18.000 kg
A12: Data Base da Categoria (dia/mês/ano): 1º de Maio
A13: IDENTIFICAÇÃO DO SERVIÇO
A14: Item do TR | B14: Descrição | C14: Carga Horária | D14: Remuneração
A15: 2 | B15: Hora extraordinária remunerada com adicional de 50% sobre as horas normais para o posto de Motorista Especial. | C15: 44h semanais | D15: ='01. Motorista Especial'!D22 -> 0
A16: MÓDULO 1 - COMPOSIÇÃO DA REMUNERAÇÃO
A17: Submódulo 1.1 - Remuneração
A18: Item | B18: Descrição | C18: Percentual % | D18: Valor (R$)
A19: A | B19: Hora extraordinária remunerada com adicional de 50% sobre as horas normais. | C19: 1.5 | D19: =(D15/220)*C19 -> 0
A20: B | B20: DSR sobre Horas Extras | D20: =(D19/25)*5 -> 0
A21: Total do Submódulo 1.1 | D21: =ROUND(SUM(D19:D20),2) -> 0
A22: Submódulo 1.2 - Pagamentos sem natureza remuneratória
A23: Item | B23: Descrição | C23: Percentual % | D23: Valor (R$)
A24: A | B24: Adicional de Boa Permanência | D24: 0
A25: B | B25: Intervalo Intrajornada | C25: 0 | D25: =ROUND((C25*D21),2) -> 0
A26: C | B26: Outros (especificar)
A27: Total do Submódulo 1.2 | D27: =ROUND(SUM(D24:D26),2) -> 0
A29: Quadro-Resumo do Módulo 1 - Composição da Remuneração
A30: Item | B30: Encargos e Benefícios Anuais, Mensais e Diários | D30: Valor (R$)
A31: 1.1 | B31: Remuneração | D31: =D21 -> 0
A32: 1.2 | B32: Pagamentos sem natureza remuneratória e incidência | D32: =D27 -> 0
A33: TOTAL DO MÓDULO 1 | D33: =SUM(D31:D32) -> 0
A35: MÓDULO 2 - Encargos e Benefícios Anuais, Mensais e Diários
A36: Submódulo 2.1 - 13º (décimo terceiro) Salário, Férias e Adicional de Férias | C36: Percentual % | D36: Valor (R$)
A37: A | B37: 13º (décimo terceiro) Salário | C37: 0 | D37: =ROUND(($D$21*C37),2) -> 0
A38: B | B38: Adicional de Férias | C38: 0 | D38: =ROUND(($D$21*C38),2) -> 0
A39: Total do Submódulo 2.1 | C39: =SUM(C37:C38) -> 0 | D39: =ROUND(SUM(D37:D38),2) -> 0
A41: BASE DE CÁLCULO PARA O MÓDULO 2.2
A42: Submódulo 1.1 + Submódulo 2.1 | D42: =D21+D39 -> 0
A43: Submódulo 2.2 - Encargos Previdenciários (GPS), Fundo de Garantia por Tempo de Serviço (FGTS) e outras contribuições | C43: Percentual % | D43: Valor (R$)
...

Sheet 03. Hora 100%
A1: PLANILHA DE CUSTOS E FORMAÇÃO DE PREÇOS
A2: Processo nº
A3: Licitação nº
A4: Data da apresentação da proposta (dia/mês/ano):
A5: Data de apresentação da proposta (mês/ano)
A6: Ano Acordo, Convenção ou Sentença Normativa em Dissídio Coletivo: 2019/2020
A7: Nº de meses de execução contratual: 30 meses
A8: Mão de obra vinculada à execução Contratual: Dedicação Exclusiva
A9: Identificação do Serviço: PRESTAÇÃO CONTINUADA DE SERVIÇOS DE CONDUÇÃO DE VEÍCULOS.
A10: Salário Normativo da Categoria Profissional: R$ 1.983,00
A11: Categoria profissional: Motorista de veículos pesados com capacidade de carga acima de 18.000 kg
A12: Data Base da Categoria (dia/mês/ano): 1º de Maio
A13: IDENTIFICAÇÃO DO SERVIÇO
A14: Item do TR | B14: Descrição | C14: Carga Horária | D14: Remuneração
A15: 3 | B15: Hora extraordinária remunerada com adicional de 100% sobre as horas normais para o posto de Motorista Especial. | C15: 44h semanais | D15: ='01. Motorista Especial'!D22 -> 0
A16: MÓDULO 1 - COMPOSIÇÃO DA REMUNERAÇÃO
A17: Submódulo 1.1 - Remuneração
A18: Item | B18: Descrição | C18: Percentual % | D18: Valor (R$)
A19: A | B19: Hora extraordinária remunerada com adicional de 100% sobre as horas normais. | C19: 2 | D19: =(D15/220)*C19 -> 0
A20: B | B20: DSR sobre Horas Extras | D20: =(D19/25)*5 -> 0
A21: Total do Submódulo 1.1 | D21: =ROUND(SUM(D19:D20),2) -> 0
A22: Submódulo 1.2 - Pagamentos sem natureza remuneratória
A23: Item | B23: Descrição | C23: Percentual % | D23: Valor (R$)
A24: A | B24: Adicional de Boa Permanência | D24: 0
A25: B | B25: Intervalo Intrajornada | C25: 0 | D25: =ROUND((C25*D21),2) -> 0
A26: C | B26: Outros (especificar)
A27: Total do Submódulo 1.2 | D27: =ROUND(SUM(D24:D26),2) -> 0
A29: Quadro-Resumo do Módulo 1 - Composição da Remuneração
A30: Item | B30: Encargos e Benefícios Anuais, Mensais e Diários | D30: Valor (R$)
A31: 1.1 | B31: Remuneração | D31: =D21 -> 0
A32: 1.2 | B32: Pagamentos sem natureza remuneratória e incidência | D32: =D27 -> 0
A33: TOTAL DO MÓDULO 1 | D33: =SUM(D31:D32) -> 0
A35: MÓDULO 2 - Encargos e Benefícios Anuais, Mensais e Diários
A36: Submódulo 2.1 - 13º (décimo terceiro) Salário, Férias e Adicional de Férias | C36: Percentual % | D36: Valor (R$)
A37: A | B37: 13º (décimo terceiro) Salário | C37: 0 | D37: =ROUND(($D$21*C37),2) -> 0
A38: B | B38: Adicional de Férias | C38: 0 | D38: =ROUND(($D$21*C38),2) -> 0
A39: Total do Submódulo 2.1 | C39: =SUM(C37:C38) -> 0 | D39: =ROUND(SUM(D37:D38),2) -> 0
A41: BASE DE CÁLCULO PARA O MÓDULO 2.2
A42: Submódulo 1.1 + Submódulo 2.1 | D42: =D21+D39 -> 0
A43: Submódulo 2.2 - Encargos Previdenciários (GPS), Fundo de Garantia por Tempo de Serviço (FGTS) e outras contribuições | C43: Percentual % | D43: Valor (R$)
...

Sheet 04. Hora Noturna
A1: PLANILHA DE CUSTOS E FORMAÇÃO DE PREÇOS
A2: Processo nº
A3: Licitação nº
A4: Data da apresentação da proposta (dia/mês/ano):
A5: Data de apresentação da proposta (mês/ano)
A6: Ano Acordo, Convenção ou Sentença Normativa em Dissídio Coletivo: 2019/2020
A7: Nº de meses de execução contratual: 30 meses
A8: Mão de obra vinculada à execução Contratual: Dedicação Exclusiva
A9: Identificação do Serviço: PRESTAÇÃO CONTINUADA DE SERVIÇOS DE CONDUÇÃO DE VEÍCULOS.
A10: Salário Normativo da Categoria Profissional: R$ 1.983,00
A11: Categoria profissional: Motorista de veículos pesados com capacidade de carga acima de 18.000 kg
A12: Data Base da Categoria (dia/mês/ano): 1º de Maio
A13: IDENTIFICAÇÃO DO SERVIÇO
A14: Item do TR | B14: Descrição | C14: Carga Horária | D14: Remuneração
A15: 4 | B15: Hora noturna reduzida com adicional de 20% sobre o valor da hora normal para os postos de Motorista Especial. | C15: 44h semanais | D15: ='01. Motorista Especial'!D22 -> 0
A16: MÓDULO 1 - COMPOSIÇÃO DA REMUNERAÇÃO
A17: Submódulo 1.1 - Remuneração
A18: Item | B18: Descrição | C18: Percentual % | D18: Valor (R$)
A19: A | B19: Hora Noturna com adicional de 20% sobre as horas trabalhadas. | C19: 1.2 | D19: =(D15/220)*C19 -> 0
A20: B | B20: DSR sobre Horas Extras | D20: =(D19/25)*5 -> 0
A21: Total do Submódulo 1.1 | D21: =ROUND(SUM(D19:D20),2) -> 0
A22: Submódulo 1.2 - Pagamentos sem natureza remuneratória
A23: Item | B23: Descrição | C23: Percentual % | D23: Valor (R$)
A24: A | B24: Adicional de Boa Permanência | D24: 0
A25: B | B25: Intervalo Intrajornada | C25: 0 | D25: =ROUND((C25*D21),2) -> 0
A26: C | B26: Outros (especificar)
A27: Total do Submódulo 1.2 | D27: =ROUND(SUM(D24:D26),2) -> 0
A29: Quadro-Resumo do Módulo 1 - Composição da Remuneração
A30: Item | B30: Encargos e Benefícios Anuais, Mensais e Diários | D30: Valor (R$)
A31: 1.1 | B31: Remuneração | D31: =D21 -> 0
A32: 1.2 | B32: Pagamentos sem natureza remuneratória e incidência | D32: =D27 -> 0
A33: TOTAL DO MÓDULO 1 | D33: =SUM(D31:D32) -> 0
A35: MÓDULO 2 - Encargos e Benefícios Anuais, Mensais e Diários
A36: Submódulo 2.1 - 13º (décimo terceiro) Salário, Férias e Adicional de Férias | C36: Percentual % | D36: Valor (R$)
A37: A | B37: 13º (décimo terceiro) Salário | C37: 0 | D37: =ROUND(($D$21*C37),2) -> 0
A38: B | B38: Adicional de Férias | C38: 0 | D38: =ROUND(($D$21*C38),2) -> 0
A39: Total do Submódulo 2.1 | C39: =SUM(C37:C38) -> 0 | D39: =ROUND(SUM(D37:D38),2) -> 0
A41: BASE DE CÁLCULO PARA O MÓDULO 2.2
A42: Submódulo 1.1 + Submódulo 2.1 | D42: =D21+D39 -> 0
A43: Submódulo 2.2 - Encargos Previdenciários (GPS), Fundo de Garantia por Tempo de Serviço (FGTS) e outras contribuições | C43: Percentual % | D43: Valor (R$)
...

Sheet 05. Motorista I
A1: PLANILHA DE CUSTOS E FORMAÇÃO DE PREÇOS
A2: Processo nº
A3: Licitação nº
A4: Data da apresentação da proposta (dia/mês/ano):
A5: Data de apresentação da proposta (mês/ano)
A6: Ano Acordo, Convenção ou Sentença Normativa em Dissídio Coletivo: 2019/2020
A7: Nº de meses de execução contratual: 30 meses
A8: Mão de obra vinculada à execução Contratual: Dedicação Exclusiva
A9: Identificação do Serviço: PRESTAÇÃO CONTINUADA DE SERVIÇOS DE CONDUÇÃO DE VEÍCULOS.
A10: Salário Normativo da Categoria Profissional: R$ 1.983,00
A11: Categoria profissional: Motorista de veículos pesados com capacidade de carga acima de 18.000 kg
A12: Data Base da Categoria (dia/mês/ano): 1º de Maio
A13: IDENTIFICAÇÃO DO SERVIÇO
A14: Item do TR | B14: Descrição | C14: Carga Horária | D14: Salário
A15: 5 | B15: Prestação dos serviços de Motorista I para a condução de veículos autorizados pela UFSB. | C15: 44h semanais
A16: MÓDULO 1 - COMPOSIÇÃO DA REMUNERAÇÃO
A17: Submódulo 1.1 - Remuneração
A18: Item | B18: Descrição | C18: Percentual % | D18: Valor (R$)
A19: A | B19: Salário-Base | D19: =D15 -> 0
A20: B | B20: Gratificação | C20: 0 | D20: =ROUND((C20*D15),2) -> 0
A21: C | B21: Outros (especificar)
A22: Total do Submódulo 1.1 | D22: =ROUND(SUM(D19:D21),2) -> 0
A23: Submódulo 1.2 - Pagamentos sem natureza remuneratória
A24: Item | B24: Descrição | C24: Percentual % | D24: Valor (R$)
A25: A | B25: Adicional de Antiguidade | C25: 0.05 | D25: =ROUND(C25*D22,2) -> 0
A26: B | B26: Participação nos Lucros ou Resultados
A27: C | B27: Outros (especificar)
A28: Total do Submódulo 1.2 | D28: =ROUND(SUM(D25:D27),2) -> 0
A30: Quadro-Resumo do Módulo 1 - Composição da Remuneração
A31: Item | B31: Encargos e Benefícios Anuais, Mensais e Diários | D31: Valor (R$)
A32: 1.1 | B32: Remuneração | D32: =D22 -> 0
A33: 1.2 | B33: Pagamentos sem natureza remuneratória e incidência | D33: =D28 -> 0
A34: TOTAL DO MÓDULO 1 | D34: =SUM(D32:D33) -> 0
A36: MÓDULO 2 - Encargos e Benefícios Anuais, Mensais e Diários
A37: Submódulo 2.1 - 13º (décimo terceiro) Salário, Férias e Adicional de Férias | C37: Percentual % | D37: Valor (R$)
A38: A | B38: 13º (décimo terceiro) Salário | D38: =ROUND(($D$22*C38),2) -> 0
A39: B | B39: Adicional de Férias | D39: =ROUND(($D$22*C39),2) -> 0
A40: Total do Submódulo 2.1 | C40: =SUM(C38:C39) -> 0 | D40: =ROUND(SUM(D38:D39),2) -> 0
A42: BASE DE CÁLCULO PARA O MÓDULO 2.2
A43: Submódulo 1.1 + Submódulo 2.1 | D43: =D22+D40 -> 0
...

Sheet 06. Hora 50%
A1: PLANILHA DE CUSTOS E FORMAÇÃO DE PREÇOS
A2: Processo nº
A3: Licitação nº
A4: Data da apresentação da proposta (dia/mês/ano):
A5: Data de apresentação da proposta (mês/ano)
A6: Ano Acordo, Convenção ou Sentença Normativa em Dissídio Coletivo: 2019/2020
A7: Nº de meses de execução contratual: 30 meses
A8: Mão de obra vinculada à execução Contratual: Dedicação Exclusiva
A9: Identificação do Serviço: PRESTAÇÃO CONTINUADA DE SERVIÇOS DE CONDUÇÃO DE VEÍCULOS.
A10: Salário Normativo da Categoria Profissional: R$ 1.983,00
A11: Categoria profissional: Motorista de veículos pesados com capacidade de carga acima de 18.000 kg
A12: Data Base da Categoria (dia/mês/ano): 1º de Maio
A13: IDENTIFICAÇÃO DO SERVIÇO
A14: Item do TR | B14: Descrição | C14: Carga Horária | D14: Salário
A15: 6 | B15: Hora extraordinária remunerada com adicional de 50% sobre as horas normais para o posto de Motorista I. | C15: 44h semanais
A16: MÓDULO 1 - COMPOSIÇÃO DA REMUNERAÇÃO
A17: Submódulo 1.1 - Remuneração
A18: Item | B18: Descrição | C18: Percentual % | D18: Valor (R$)
A19: A | B19: Hora extraordinária remunerada com adicional de 50% sobre as horas normais. | C19: 1.5 | D19: =(D15/220)*C19 -> 0
A20: B | B20: DSR sobre Horas Extras | D20: =(D19/25)*5 -> 0
A21: Total do Submódulo 1.1 | D21: =ROUND(SUM(D19:D20),2) -> 0
A22: Submódulo 1.2 - Pagamentos sem natureza remuneratória
A23: Item | B23: Descrição | C23: Percentual % | D23: Valor (R$)
A24: A | B24: Adicional de Boa Permanência | D24: 0
A25: B | B25: Intervalo Intrajornada | C25: 0 | D25: =ROUND((C25*D21),2) -> 0
A26: C | B26: Outros (especificar)
A27: Total do Submódulo 1.2 | D27: =ROUND(SUM(D24:D26),2) -> 0
A29: Quadro-Resumo do Módulo 1 - Composição da Remuneração
A30: Item | B30: Encargos e Benefícios Anuais, Mensais e Diários | D30: Valor (R$)
A31: 1.1 | B31: Remuneração | D31: =D21 -> 0
A32: 1.2 | B32: Pagamentos sem natureza remuneratória e incidência | D32: =D27 -> 0
A33: TOTAL DO MÓDULO 1 | D33: =SUM(D31:D32) -> 0
A35: MÓDULO 2 - Encargos e Benefícios Anuais, Mensais e Diários
A36: Submódulo 2.1 - 13º (décimo terceiro) Salário, Férias e Adicional de Férias | C36: Percentual % | D36: Valor (R$)
A37: A | B37: 13º (décimo terceiro) Salário | C37: 0 | D37: =ROUND(($D$21*C37),2) -> 0
A38: B | B38: Adicional de Férias | C38: 0 | D38: =ROUND(($D$21*C38),2) -> 0
A39: Total do Submódulo 2.1 | C39: =SUM(C37:C38) -> 0 | D39: =ROUND(SUM(D37:D38),2) -> 0
A41: BASE DE CÁLCULO PARA O MÓDULO 2.2
A42: Submódulo 1.1 + Submódulo 2.1 | D42: =D21+D39 -> 0
A43: Submódulo 2.2 - Encargos Previdenciários (GPS), Fundo de Garantia por Tempo de Serviço (FGTS) e outras contribuições | C43: Percentual % | D43: Valor (R$)
...

Sheet 07. Hora 100%
A1: PLANILHA DE CUSTOS E FORMAÇÃO DE PREÇOS
A2: Processo nº
A3: Licitação nº
A4: Data da apresentação da proposta (dia/mês/ano):
A5: Data de apresentação da proposta (mês/ano)
A6: Ano Acordo, Convenção ou Sentença Normativa em Dissídio Coletivo: 2019/2020
A7: Nº de meses de execução contratual: 30 meses
A8: Mão de obra vinculada à execução Contratual: Dedicação Exclusiva
A9: Identificação do Serviço: PRESTAÇÃO CONTINUADA DE SERVIÇOS DE CONDUÇÃO DE VEÍCULOS.
A10: Salário Normativo da Categoria Profissional: R$ 1.983,00
A11: Categoria profissional: Motorista de veículos pesados com capacidade de carga acima de 18.000 kg
A12: Data Base da Categoria (dia/mês/ano): 1º de Maio
A13: IDENTIFICAÇÃO DO SERVIÇO
A14: Item do TR | B14: Descrição | C14: Carga Horária | D14: Salário
A15: 7 | B15: Hora extraordinária remunerada com adicional de 100% sobre as horas normais para o posto de Motorista I. | C15: 44h semanais
A16: MÓDULO 1 - COMPOSIÇÃO DA REMUNERAÇÃO
A17: Submódulo 1.1 - Remuneração
A18: Item | B18: Descrição | C18: Percentual % | D18: Valor (R$)
A19: A | B19: Hora extraordinária remunerada com adicional de 100% sobre as horas normais. | C19: 2 | D19: =(D15/220)*C19 -> 0
A20: B | B20: DSR sobre Horas Extras | D20: =(D19/25)*5 -> 0
A21: Total do Submódulo 1.1 | D21: =ROUND(SUM(D19:D20),2) -> 0
A22: Submódulo 1.2 - Pagamentos sem natureza remuneratória
A23: Item | B23: Descrição | C23: Percentual % | D23: Valor (R$)
A24: A | B24: Adicional de Boa Permanência | D24: 0
A25: B | B25: Intervalo Intrajornada | C25: 0 | D25: =ROUND((C25*D21),2) -> 0
A26: C | B26: Outros (especificar)
A27: Total do Submódulo 1.2 | D27: =ROUND(SUM(D24:D26),2) -> 0
A29: Quadro-Resumo do Módulo 1 - Composição da Remuneração
A30: Item | B30: Encargos e Benefícios Anuais, Mensais e Diários | D30: Valor (R$)
A31: 1.1 | B31: Remuneração | D31: =D21 -> 0
A32: 1.2 | B32: Pagamentos sem natureza remuneratória e incidência | D32: =D27 -> 0
A33: TOTAL DO MÓDULO 1 | D33: =SUM(D31:D32) -> 0
A35: MÓDULO 2 - Encargos e Benefícios Anuais, Mensais e Diários
A36: Submódulo 2.1 - 13º (décimo terceiro) Salário, Férias e Adicional de Férias | C36: Percentual % | D36: Valor (R$)
A37: A | B37: 13º (décimo terceiro) Salário | C37: 0 | D37: =ROUND(($D$21*C37),2) -> 0
A38: B | B38: Adicional de Férias | C38: 0 | D38: =ROUND(($D$21*C38),2) -> 0
A39: Total do Submódulo 2.1 | C39: =SUM(C37:C38) -> 0 | D39: =ROUND(SUM(D37:D38),2) -> 0
A41: BASE DE CÁLCULO PARA O MÓDULO 2.2
A42: Submódulo 1.1 + Submódulo 2.1 | D42: =D21+D39 -> 0
A43: Submódulo 2.2 - Encargos Previdenciários (GPS), Fundo de Garantia por Tempo de Serviço (FGTS) e outras contribuições | C43: Percentual % | D43: Valor (R$)
...

Sheet 08. Hora Noturna
A1: PLANILHA DE CUSTOS E FORMAÇÃO DE PREÇOS
A2: Processo nº
A3: Licitação nº
A4: Data da apresentação da proposta (dia/mês/ano):
A5: Data de apresentação da proposta (mês/ano)
A6: Ano Acordo, Convenção ou Sentença Normativa em Dissídio Coletivo: 2019/2020
A7: Nº de meses de execução contratual: 30 meses
A8: Mão de obra vinculada à execução Contratual: Dedicação Exclusiva
A9: Identificação do Serviço: PRESTAÇÃO CONTINUADA DE SERVIÇOS DE CONDUÇÃO DE VEÍCULOS.
A10: Salário Normativo da Categoria Profissional: R$ 1.983,00
A11: Categoria profissional: Motorista de veículos pesados com capacidade de carga acima de 18.000 kg
A12: Data Base da Categoria (dia/mês/ano): 1º de Maio
A13: IDENTIFICAÇÃO DO SERVIÇO
A14: Item do TR | B14: Descrição | C14: Carga Horária | D14: Salário
A15: 8 | B15: Hora noturna reduzida com adicional de 20% sobre o valor da hora normal para os postos de Motorista I. | C15: 44h semanais
A16: MÓDULO 1 - COMPOSIÇÃO DA REMUNERAÇÃO
A17: Submódulo 1.1 - Remuneração
A18: Item | B18: Descrição | C18: Percentual % | D18: Valor (R$)
A19: A | B19: Hora Noturna com adicional de 20% sobre as horas trabalhadas. | C19: 1.2 | D19: =(D15/220)*C19 -> 0
A20: B | B20: DSR sobre Horas Extras | D20: =(D19/25)*5 -> 0
A21: Total do Submódulo 1.1 | D21: =ROUND(SUM(D19:D20),2) -> 0
A22: Submódulo 1.2 - Pagamentos sem natureza remuneratória
A23: Item | B23: Descrição | C23: Percentual % | D23: Valor (R$)
A24: A | B24: Adicional de Boa Permanência | D24: 0
A25: B | B25: Intervalo Intrajornada | C25: 0 | D25: =ROUND((C25*D21),2) -> 0
A26: C | B26: Outros (especificar)
A27: Total do Submódulo 1.2 | D27: =ROUND(SUM(D24:D26),2) -> 0
A29: Quadro-Resumo do Módulo 1 - Composição da Remuneração
A30: Item | B30: Encargos e Benefícios Anuais, Mensais e Diários | D30: Valor (R$)
A31: 1.1 | B31: Remuneração | D31: =D21 -> 0
A32: 1.2 | B32: Pagamentos sem natureza remuneratória e incidência | D32: =D27 -> 0
A33: TOTAL DO MÓDULO 1 | D33: =SUM(D31:D32) -> 0
A35: MÓDULO 2 - Encargos e Benefícios Anuais, Mensais e Diários
A36: Submódulo 2.1 - 13º (décimo terceiro) Salário, Férias e Adicional de Férias | C36: Percentual % | D36: Valor (R$)
A37: A | B37: 13º (décimo terceiro) Salário | C37: 0 | D37: =ROUND(($D$21*C37),2) -> 0
A38: B | B38: Adicional de Férias | C38: 0 | D38: =ROUND(($D$21*C38),2) -> 0
A39: Total do Submódulo 2.1 | C39: =SUM(C37:C38) -> 0 | D39: =ROUND(SUM(D37:D38),2) -> 0
A41: BASE DE CÁLCULO PARA O MÓDULO 2.2
A42: Submódulo 1.1 + Submódulo 2.1 | D42: =D21+D39 -> 0
A43: Submódulo 2.2 - Encargos Previdenciários (GPS), Fundo de Garantia por Tempo de Serviço (FGTS) e outras contribuições | C43: Percentual % | D43: Valor (R$)
...

Sheet 09. Diárias
A1: PLANILHA DE CUSTOS E FORMAÇÃO DE PREÇOS
A2: Processo nº
A3: Licitação nº
A4: Data da apresentação da proposta (dia/mês/ano):
A5: Data de apresentação da proposta (mês/ano)
A6: Ano Acordo, Convenção ou Sentença Normativa em Dissídio Coletivo: 2019/2020
A7: Nº de meses de execução contratual: 30 meses
A8: Mão de obra vinculada à execução Contratual: Dedicação Exclusiva
A9: Identificação do Serviço: PRESTAÇÃO CONTINUADA DE SERVIÇOS DE CONDUÇÃO DE VEÍCULOS.
A10: Salário Normativo da Categoria Profissional: R$ 1.983,00
A11: Categoria profissional: Motorista de veículos pesados com capacidade de carga acima de 18.000 kg
A12: Data Base da Categoria (dia/mês/ano): 1º de Maio
A13: IDENTIFICAÇÃO DO SERVIÇO
A14: Item do TR | B14: Descrição | C14: Carga Horária | D14: Salário
A15: 1 | B15: Prestação dos serviços de Motorisa Especial para a condução de veículos autorizados pela UFSB. | C15: 44h semanais
A16: MÓDULO 1 - COMPOSIÇÃO DA REMUNERAÇÃO
A17: Submódulo 1.1 - Remuneração
A18: Item | B18: Descrição | C18: Percentual % | D18: Valor (R$)
A19: A | B19: Diária (Pernoite) | C19: 1
A20: Total do Submódulo 1.1 | D20: =ROUND(SUM(D19:D19),2) -> 0
A21: Submódulo 1.2 - Pagamentos sem natureza remuneratória
A22: Item | B22: Descrição | C22: Percentual % | D22: Valor (R$)
A23: A | B23: Adicional de Boa Permanência | D23: 0
A24: B | B24: Intervalo Intrajornada | C24: 0 | D24: =ROUND((C24*D20),2) -> 0
A25: C | B25: Outros (especificar)
A26: Total do Submódulo 1.2 | D26: =ROUND(SUM(D23:D25),2) -> 0
A28: Quadro-Resumo do Módulo 1 - Composição da Remuneração
A29: Item | B29: Encargos e Benefícios Anuais, Mensais e Diários | D29: Valor (R$)
A30: 1.1 | B30: Remuneração | D30: =D20 -> 0
A31: 1.2 | B31: Pagamentos sem natureza remuneratória e incidência | D31: =D26 -> 0
A32: TOTAL DO MÓDULO 1 | D32: =SUM(D30:D31) -> 0
A34: MÓDULO 2 - Encargos e Benefícios Anuais, Mensais e Diários
A35: Submódulo 2.1 - 13º (décimo terceiro) Salário, Férias e Adicional de Férias | C35: Percentual % | D35: Valor (R$)
A36: A | B36: 13º (décimo terceiro) Salário | C36: 0 | D36: =ROUND(($D$20*C36),2) -> 0
A37: B | B37: Adicional de Férias | C37: 0 | D37: =ROUND(($D$20*C37),2) -> 0
A38: Total do Submódulo 2.1 | C38: =SUM(C36:C37) -> 0 | D38: =ROUND(SUM(D36:D37),2) -> 0
A40: BASE DE CÁLCULO PARA O MÓDULO 2.2
A41: Submódulo 1.1 + Submódulo 2.1 | D41: =D20+D38 -> 0
A42: Submódulo 2.2 - Encargos Previdenciários (GPS), Fundo de Garantia por Tempo de Serviço (FGTS) e outras contribuições | C42: Percentual % | D42: Valor (R$)
A43: A | B43: INSS (Previdência Social) | D43: =ROUND(($D$41*C43),2) -> 0
...

Sheet UNIFORMES
A1: PLANILHA DE UNIFORMES
A3: Conjunto de Uniforme completo para o posto de Motorista Especial (Item 01)
A4: Item | B4: Descrição | C4: Qtd. | D4: Preço Unitário | E4: Qtd. Anual | F4: Valor Mensal
A5: 1 | B5: Paletó, fino acabamento, corte slim, cor preta, em tecido microfibra ou superior, forrado internamente, inclusive na manga, conforme especificações do item 11.3.1 do Termo de Referência. | C5: 1 | E5: 1 | F5: =(D5*E5)/12 -> 0
A6: 2 | B6: Calça Social, sob medida, corte italiano, fino acabamento, conforme especificações do item 11.3.2 do Termo de Referência. | C6: 2 | E6: =C6*2 -> 4 | F6: =(D6*E6)/12 -> 0
A7: 3 | B7: Camisa Social, manga longa, cor azul ou branca, confeccionada em tecido 100% algodão, conforme especificações descrita no item 11.3.3 do Termo de Referência. | C7: 2 | E7: =C7*2 -> 4 | F7: =(D7*E7)/12 -> 0
A8: 4 | B8: Camisa Social, manga curta, cor azul ou branca, confeccionada em tecido 100% algodão, conforme especificações do item 11.3.4 do Termo de Referência. | C8: 2 | E8: =C8*2 -> 4 | F8: =(D8*E8)/12 -> 0
A9: 5 | B9: Gravata em Tecido Jaguard 100% poliester, acabamento de 1ª qualidade, modelo slim, conforme especificações do item 11.3.5 do Termo de Referência. | C9: 3 | E9: =C9*2 -> 6 | F9: =(D9*E9)/12 -> 0
A10: 6 | B10: Cinto, modelo social, 100% couro animal, cor preta com fivela lisa na cor prata ou chumbo, conforme especificações do item 11.3.6 do Termo de Referência. | C10: 2 | E10: =C10*2 -> 4 | F10: =(D10*E10)/12 -> 0
A11: 7 | B11: Sapato Social (par) tipo esporte fino, em couro legítimo, cor preta, solado de borracha antiderrapante, conforme especificações do item 11.3.7 do Termo de Referência. | C11: 2 | E11: =C11*2 -> 4 | F11: =(D11*E11)/12 -> 0
A12: 8 | B12: Meia Social, tecido 100% poliamida, cano longo, cor preta, conforme especificações do item 11.3.8 do Termo de Referência. | C12: 6 | E12: =C12*2 -> 12 | F12: =(D12*E12)/12 -> 0
A13: 9 | B13: Crachá de identificação confeccionado em PVC com cordão de pescoço, conformee especificações do item 11.3.9 do Termo de Referência. | C13: 1 | E13: =C13*2 -> 2 | F13: =(D13*E13)/12 -> 0
A14: CUSTO MENSAL DO UNIFORME POR EMPREGADO | F14: =SUM(F7:F13) -> 0
A17: Conjunto de Uniforme completo para os postos de Motorista I (Item 05)
A18: Item | B18: Descrição | C18: Qtd. | D18: Preço Unitário | E18: Qtd. Anual | F18: Valor Mensal
A19: 1 | B19: Calça Social, sob medida, corte italiano, fino acabamento, conforme especificações do item 11.3.2 do Termo de Referência. | C19: 2 | E19: =C19*2 -> 4 | F19: =(D19*E19)/12 -> 0
A20: 2 | B20: Camisa Social, manga longa, cor azul ou branca, confeccionada em tecido 100% algodão, conforme especificações descrita no item 11.3.3 do Termo de Referência. | C20: 2 | E20: =C20*2 -> 4 | F20: =(D20*E20)/12 -> 0
A21: 3 | B21: Camisa Social, manga curta, cor azul ou branca, confeccionada em tecido 100% algodão, conforme especificações do item 11.3.4 do Termo de Referência. | C21: 2 | E21: =C21*2 -> 4 | F21: =(D21*E21)/12 -> 0
A22: 4 | B22: Gravata em Tecido Jaguard 100% poliester, acabamento de 1ª qualidade, modelo slim, conforme especificações do item 11.3.5 do Termo de Referência. | C22: 3 | E22: =C22*2 -> 6 | F22: =(D22*E22)/12 -> 0
A23: 5 | B23: Cinto, modelo social, 100% couro animal, cor preta com fivela lisa na cor prata ou chumbo, conforme especificações do item 11.3.6 do Termo de Referência. | C23: 2 | E23: =C23*2 -> 4 | F23: =(D23*E23)/12 -> 0
A24: 6 | B24: Sapato Social (par) tipo esporte fino, em couro legítimo, cor preta, solado de borracha antiderrapante, conforme especificações do item 11.3.7 do Termo de Referência. | C24: 2 | E24: =C24*2 -> 4 | F24: =(D24*E24)/12 -> 0
A25: 7 | B25: Meia Social, tecido 100% poliamida, cano longo, cor preta, conforme especificações do item 11.3.8 do Termo de Referência. | C25: 6 | E25: =C25*2 -> 12 | F25: =(D25*E25)/12 -> 0
A26: 8 | B26: Crachá de identificação confeccionado em PVC com cordão de pescoço, conformee especificações do item 11.3.9 do Termo de Referência. | C26: 1 | E26: =C26*2 -> 2 | F26: =(D26*E26)/12 -> 0
A27: CUSTO MENSAL DO UNIFORME POR EMPREGADO | F27: =SUM(F19:F26) -> 0

Sheet MAT. E EQUIP.
A1: PLANILHA DE MATERIAIS E EQUIPAMENTOS
A3: Materiais e equipamentos disponibilizados para todos os postos
A4: Item | B4: Descrição | C4: Qtd. | D4: Custo Unitário | E4: Qtd. Anual | F4: Custo Mensal
A5: 1 | B5: Livro de Ocorrência | C5: 2 | E5: =C5*2 -> 4 | F5: =(D5*E5)/12 -> 0
A6: 2 | B6: Caneta Esferográfica tinta azul | C6: 12 | E6: =C6*2 -> 24 | F6: =(D6*E6)/12 -> 0
A7: CUSTO MENSAL COM MATERIAIS E EQUIPAMENTOS POR EMPREGADO | F7: =SUM(F5:F6) -> 0
