Workbook

Sheet PROPOSTA
A1: PLANILHA DE CUSTOS E FORMAÇÃO DE PREÇOS
A2: Processo nº
A3: Licitação nº
A4: Data da apresentação da proposta (dia/mês/ano):
A5: Data de apresentação da proposta (mês/ano)
A6: Ano Acordo, Convenção ou Sentença Normativa em Dissídio Coletivo:
A7: Nº de meses de execução contratual:
A8: Mão de obra vinculada à execução Contratual
A9: Identificação do Serviço: PRESTAÇÃO CONTINUADA DE SERVIÇOS DE APOIO ADMINISTRATIVO.
A10: Salário para o cálculo de insalubridade (quando couber):
A11: Salário Normativo da Categoria Profissional
A12: Categoria profissional (vinculada à execução Contratual):
... A15: GRUPO 01 - MÃO DE OBRA EXCLUSIVA
A16: Item | B16: Descrição | C16: Und. de Medida | D16: Valor Unit. | E16: Qtd. Mensal | F16: Valor Mensal | G16: Qtd. Anual | H16: Valor Anual | I16: Qtd. Total (30 meses) | J16: Total
A17: 1 | B17: Almoxarife | C17: Posto Mensal | D17: ='01. ALM'!D125 -> 3516.27 | E17: 3 | F17: =E17*D17 -> 10548.81 | G17: =E17*12 -> 36 | H17: =G17*D17 -> 126585.72 | I17: =E17*30 -> 90 | J17: =I17*D17 -> 316464.3
A18: 2 | B18: Auxiliar Administrativo II | C18: Posto Mensal | D18: ='02. ADM'!D125 -> 2737.83 | E18: 33 | F18: =E18*D18 -> 90348.39 | G18: =E18*12 -> 396 | H18: =G18*D18 -> 1084180.7 | I18: =E18*30 -> 990 | J18: =I18*D18 -> 2710451.7
A19: 3 | B19: Assistente Operacional Administrativo I | C19: Posto Mensal | D19: ='03. ADM'!D124 -> 5101.94 | E19: 8 | F19: =E19*D19 -> 40815.52 | G19: =E19*12 -> 96 | H19: =G19*D19 -> 489786.24 | I19: =E19*30 -> 240 | J19: =I19*D19 -> 1224465.6
A20: 4 | B20: Auxiliar de Arquivo | C20: Posto Mensal | D20: ='04. ARQ'!D124 -> 2333.29 | E20: 13 | F20: =E20*D20 -> 30332.77 | G20: =E20*12 -> 156 | H20: =G20*D20 -> 363993.24 | I20: =E20*30 -> 390 | J20: =I20*D20 -> 909983.1
A21: 5 | B21: Agente de Apoio e Serviços | C21: Posto Mensal | D21: ='05. CAR'!D125 -> 2436.1 | E21: 7 | F21: =E21*D21 -> 17052.7 | G21: =E21*12 -> 84 | H21: =G21*D21 -> 204632.4 | I21: =E21*30 -> 210 | J21: =I21*D21 -> 511581
A22: 6 | B22: Auxiliar Técnico de Laboratório | C22: Posto Mensal | D22: ='06. LAB'!D125 -> 4854.42 | E22: 21 | F22: =E22*D22 -> 101942.82 | G22: =E22*12 -> 252 | H22: =G22*D22 -> 1223313.8 | I22: =E22*30 -> 630 | J22: =I22*D22 -> 3058284.6
A23: 7 | B23: Copeiragem | C23: Posto Mensal | D23: ='07. COP'!D125 -> 2492.47 | E23: 3 | F23: =E23*D23 -> 7477.41 | G23: =E23*12 -> 36 | H23: =G23*D23 -> 89728.92 | I23: =E23*30 -> 90 | J23: =I23*D23 -> 224322.3
A24: 8 | B24: Jardineiro | C24: Posto Mensal | D24: ='08. JAR'!D125 -> 2589.44 | E24: 6 | F24: =E24*D24 -> 15536.64 | G24: =E24*12 -> 72 | H24: =G24*D24 -> 186439.68 | I24: =E24*30 -> 180 | J24: =I24*D24 -> 466099.2
A25: 9 | B25: Porteiro 12x36 DIURNO | C25: Posto Mensal | D25: ='09. POR'!D126 -> 4846.76 | E25: 12 | F25: =E25*D25 -> 58161.12 | G25: =E25*12 -> 144 | H25: =G25*D25 -> 697933.44 | I25: =E25*30 -> 360 | J25: =I25*D25 -> 1744833.6
A26: 10 | B26: Porteiro 12x36 NOTURNO | C26: Posto Mensal | D26: ='10. POR'!D126 -> 5345.74 | E26: 8 | F26: =E26*D26 -> 42765.92 | G26: =E26*12 -> 96 | H26: =G26*D26 -> 513191.04 | I26: =E26*30 -> 240 | J26: =I26*D26 -> 1282977.6
A27: 11 | B27: Porteiro 44 Horas | C27: Posto Mensal | D27: ='11. POR'!D125 -> 2423.38 | E27: 7 | F27: =E27*D27 -> 16963.66 | G27: =E27*12 -> 84 | H27: =G27*D27 -> 203563.92 | I27: =E27*30 -> 210 | J27: =I27*D27 -> 508909.8
A28: 12 | B28: Recepcionista II | C28: Posto Mensal | D28: ='12. REC'!D125 -> 2477.54 | E28: 25 | F28: =E28*D28 -> 61938.5 | G28: =E28*12 -> 300 | H28: =G28*D28 -> 743262 | I28: =E28*30 -> 750 | J28: =I28*D28 -> 1858155
A29: 13 | B29: Ledor | C29: Posto Mensal | D29: ='13. LEDOR'!D125 -> 1864.38 | E29: 6 | F29: =E29*D29 -> 11186.28 | G29: =E29*12 -> 72 | H29: =G29*D29 -> 134235.36 | I29: =E29*30 -> 180 | J29: =I29*D29 -> 335588.4
A30: SUBTOTAL GRUPO 01 | F30: =SUM(F17:F29) -> 505070.54 | H30: =SUM(H17:H29) -> 6060846.5 | J30: =SUM(J17:J29) -> 15152116
A31: VALOR TOTAL POR EXTENSO
A32: OBSERVAÇÕES
A33: 1 | B33: No módulo 2 - Insumos de mão de obra o valor informado deverá ser o custo real do insumo (descontado eventualmente pago pelo empregado)
A34: 2 | B34: No módulo 4 - Encargos sociais e trabalhistas os percentauis incidem sobre a remuneração.
A35: 3 | B35: Em conformidade com a nova regra para o aviso prévio, definida na Lei nº 12.506/11, os anos subsequentes ao primeiro ano de contrato deverão considerar 03 dias para fins de aviso prévio até o limite de 12 dias.
A36: 4 | B36: Consoante jurisprudência consolidada do Tribunal de Contas da União, as licitantes deverão abster-se de incluir na planilha de custos e formação de preços os itens relativos à TREEINAMETNO/CAPACITAÇÃO e/ou RECICLAGEM DE PESSOAL E RESERVA TÉCNICA.
A37: 5 | B37: O licitante deve preencher o item Seguro Acidente de Trabalho e FAP do submódulo 4.1 da planilha de custo e formação de preço com o percentual apresentado no relatório SEFIP/GFIP, que será comprovado mediante a apresentação do relatóro GFIP ou outro documento apto a fazê-lo no momento do envio da proposta adequada ao lance vencedor.
A38: 6 | B38: O licitante deve elaborar sua proposta e, por conseguinte, sua planilha com base no regime de tributação ao qual estará submetido durante a execução do contrato.

Sheet 01. ALM
A1: PLANILHA DE CUSTOS E FORMAÇÃO DE PREÇOS
A2: Processo nº
A3: Licitação nº
A4: Data da apresentação da proposta (dia/mês/ano):
A5: Data de apresentação da proposta (mês/ano)
A6: Ano Acordo, Convenção ou Sentença Normativa em Dissídio Coletivo:
A7: Nº de meses de execução contratual: 30 meses
A8: Mão de obra vinculada à execução Contratual: Dedicação Exclusiva
A9: Identificação do Serviço: PRESTAÇÃO DOS SERVIÇOS CONTINUADOS DE APOIO
A10: Salário Normativo da Categoria Profissional:
A11: Categoria profissional (vinculada à execução Contratual):
A12: Data Base da Categoria (dia/mês/ano):
A13: IDENTIFICAÇÃO DO SERVIÇO
A14: Item do TR | B14: Descrição | C14: Carga Horária | D14: Salário
A15: 1 | B15: Almoxarife | C15: 192 h | D15: 1803.34
A16: MÓDULO 1 - COMPOSIÇÃO DA REMUNERAÇÃO
A17: Submódulo 1.1 - Remuneração
A18: Item | B18: Descrição | C18: Percentual % | D18: Valor (R$)
A19: A | B19: Salário-Base | D19: =D15 -> 1803.34
A20: B | B20: Gratificação | C20: 0 | D20: =ROUND((C20*D15),2) -> 0
A21: C | B21: Outros (especificar)
A22: Total do Submódulo 1.1 | D22: =ROUND(SUM(D19:D21),2) -> 1803.34
A23: Submódulo 1.2 - Pagamentos sem natureza remuneratória
A24: Item | B24: Descrição | C24: Percentual % | D24: Valor (R$)
A25: A | B25: Adicional de Boa Permanência | D25: 0
A26: B | B26: Intervalo Intrajornada | C26: 0 | D26: =ROUND((C26*D22),2) -> 0
A27: C | B27: Outros (especificar)
A28: Total do Submódulo 1.2 | D28: =ROUND(SUM(D25:D27),2) -> 0
A30: Quadro-Resumo do Módulo 1 - Composição da Remuneração
A31: Item | B31: Encargos e Benefícios Anuais, Mensais e Diários | D31: Valor (R$)
A32: 1.1 | B32: Remuneração | D32: =D22 -> 1803.34
A33: 1.2 | B33: Pagamentos sem natureza remuneratória e incidência | D33: =D28 -> 0
A34: TOTAL DO MÓDULO 1 | D34: =SUM(D32:D33) -> 1803.34
A36: MÓDULO 2 - Encargos e Benefícios Anuais, Mensais e Diários
A37: Submódulo 2.1 - 13º (décimo terceiro) Salário, Férias e Adicional de Férias | C37: Percentual % | D37: Valor (R$)
A38: A | B38: 13º (décimo terceiro) Salário | C38: 0.0937 | D38: =ROUND(($D$22*C38),2) -> 168.97
A39: B | B39: Adicional de Férias | C39: 0.0312 | D39: =ROUND(($D$22*C39),2) -> 56.26
A40: Total do Submódulo 2.1 | C40: =SUM(C38:C39) -> 0.1249 | D40: =ROUND(SUM(D38:D39),2) -> 225.23
A42: BASE DE CÁLCULO PARA O MÓDULO 2.2
A43: Submódulo 1.1 + Submódulo 2.1 | D43: =D22+D40 -> 2028.57
...

Sheet 02. ADM
A1: PLANILHA DE CUSTOS E FORMAÇÃO DE PREÇOS
A2: Processo nº
A3: Licitação nº
A4: Data da apresentação da proposta (dia/mês/ano):
A5: Data de apresentação da proposta (mês/ano)
A6: Ano Acordo, Convenção ou Sentença Normativa em Dissídio Coletivo:
A7: Nº de meses de execução contratual: 30 meses
A8: Mão de obra vinculada à execução Contratual: Dedicação Exclusiva
A9: Identificação do Serviço: PRESTAÇÃO DOS SERVIÇOS CONTINUADOS DE APOIO
A10: Salário Normativo da Categoria Profissional:
A11: Categoria profissional (vinculada à execução Contratual):
A12: Data Base da Categoria (dia/mês/ano):
A13: IDENTIFICAÇÃO DO SERVIÇO
A14: Item do TR | B14: Descrição | C14: Carga Horária | D14: Salário
A15: 1 | B15: Auxiliar Administrativo II | C15: 192 h | D15: 1322.56
A16: MÓDULO 1 - COMPOSIÇÃO DA REMUNERAÇÃO
A17: Submódulo 1.1 - Remuneração
A18: Item | B18: Descrição | C18: Percentual % | D18: Valor (R$)
A19: A | B19: Salário-Base | D19: =D15 -> 1322.56
A20: B | B20: Gratificação | C20: 0 | D20: =ROUND((C20*D15),2) -> 0
A21: C | B21: Outros (especificar)
A22: Total do Submódulo 1.1 | D22: =ROUND(SUM(D19:D21),2) -> 1322.56
A23: Submódulo 1.2 - Pagamentos sem natureza remuneratória
A24: Item | B24: Descrição | C24: Percentual % | D24: Valor (R$)
A25: A | B25: Adicional de Boa Permanência | D25: 0
A26: B | B26: Intervalo Intrajornada | C26: 0 | D26: =ROUND((C26*D22),2) -> 0
A27: C | B27: Outros (especificar)
A28: Total do Submódulo 1.2 | D28: =ROUND(SUM(D25:D27),2) -> 0
A30: Quadro-Resumo do Módulo 1 - Composição da Remuneração
A31: Item | B31: Encargos e Benefícios Anuais, Mensais e Diários | D31: Valor (R$)
A32: 1.1 | B32: Remuneração | D32: =D22 -> 1322.56
A33: 1.2 | B33: Pagamentos sem natureza remuneratória e incidência | D33: =D28 -> 0
A34: TOTAL DO MÓDULO 1 | D34: =SUM(D32:D33) -> 1322.56
A36: MÓDULO 2 - Encargos e Benefícios Anuais, Mensais e Diários
A37: Submódulo 2.1 - 13º (décimo terceiro) Salário, Férias e Adicional de Férias | C37: Percentual % | D37: Valor (R$)
A38: A | B38: 13º (décimo terceiro) Salário | C38: 0.0937 | D38: =ROUND(($D$22*C38),2) -> 123.92
A39: B | B39: Adicional de Férias | C39: 0.0312 | D39: =ROUND(($D$22*C39),2) -> 41.26
A40: Total do Submódulo 2.1 | C40: =SUM(C38:C39) -> 0.1249 | D40: =ROUND(SUM(D38:D39),2) -> 165.18
A42: BASE DE CÁLCULO PARA O MÓDULO 2.2
A43: Submódulo 1.1 + Submódulo 2.1 | D43: =D22+D40 -> 1487.74
...

Sheet 03. ADM
A1: PLANILHA DE CUSTOS E FORMAÇÃO DE PREÇOS
A2: Processo nº
A3: Licitação nº
A4: Data da apresentação da proposta (dia/mês/ano):
A5: Data de apresentação da proposta (mês/ano)
A6: Ano Acordo, Convenção ou Sentença Normativa em Dissídio Coletivo:
A7: Nº de meses de execução contratual: 30 meses
A8: Mão de obra vinculada à execução Contratual: Dedicação Exclusiva
A9: Identificação do Serviço: PRESTAÇÃO DOS SERVIÇOS CONTINUADOS DE APOIO
A10: Salário Normativo da Categoria Profissional:
A11: Categoria profissional (vinculada à execução Contratual):
A12: Data Base da Categoria (dia/mês/ano):
A13: IDENTIFICAÇÃO DO SERVIÇO
A14: Item do TR | B14: Descrição | C14: Carga Horária | D14: Salário
A15: 1 | B15: Assistente Operacional Administrativo I | C15: 192 h | D15: 2782.88
A16: MÓDULO 1 - COMPOSIÇÃO DA REMUNERAÇÃO
A17: Submódulo 1.1 - Remuneração
A18: Item | B18: Descrição | C18: Percentual % | D18: Valor (R$)
A19: A | B19: Salário-Base | D19: =D15 -> 2782.88
A20: B | B20: Gratificação | C20: 0 | D20: =ROUND((C20*D15),2) -> 0
A21: C | B21: Outros (especificar)
A22: Total do Submódulo 1.1 | D22: =ROUND(SUM(D19:D21),2) -> 2782.88
A23: Submódulo 1.2 - Pagamentos sem natureza remuneratória
A24: Item | B24: Descrição | C24: Percentual % | D24: Valor (R$)
A25: A | B25: Adicional de Boa Permanência | D25: 0
A26: B | B26: Intervalo Intrajornada | C26: 0 | D26: =ROUND((C26*D22),2) -> 0
A27: C | B27: Outros (especificar)
A28: Total do Submódulo 1.2 | D28: =ROUND(SUM(D25:D27),2) -> 0
A30: Quadro-Resumo do Módulo 1 - Composição da Remuneração
A31: Item | B31: Encargos e Benefícios Anuais, Mensais e Diários | D31: Valor (R$)
A32: 1.1 | B32: Remuneração | D32: =D22 -> 2782.88
A33: 1.2 | B33: Pagamentos sem natureza remuneratória e incidência | D33: =D28 -> 0
A34: TOTAL DO MÓDULO 1 | D34: =SUM(D32:D33) -> 2782.88
A36: MÓDULO 2 - Encargos e Benefícios Anuais, Mensais e Diários
A37: Submódulo 2.1 - 13º (décimo terceiro) Salário, Férias e Adicional de Férias | C37: Percentual % | D37: Valor (R$)
A38: A | B38: 13º (décimo terceiro) Salário | C38: 0.0937 | D38: =ROUND(($D$22*C38),2) -> 260.76
A39: B | B39: Adicional de Férias | C39: 0.0312 | D39: =ROUND(($D$22*C39),2) -> 86.83
A40: Total do Submódulo 2.1 | C40: =SUM(C38:C39) -> 0.1249 | D40: =ROUND(SUM(D38:D39),2) -> 347.59
A42: BASE DE CÁLCULO PARA O MÓDULO 2.2
A43: Submódulo 1.1 + Submódulo 2.1 | D43: =D22+D40 -> 3130.47
...

Sheet 04. ARQ
A1: PLANILHA DE CUSTOS E FORMAÇÃO DE PREÇOS
A2: Processo nº
A3: Licitação nº
A4: Data da apresentação da proposta (dia/mês/ano):
A5: Data de apresentação da proposta (mês/ano)
A6: Ano Acordo, Convenção ou Sentença Normativa em Dissídio Coletivo:
A7: Nº de meses de execução contratual: 30 meses
A8: Mão de obra vinculada à execução Contratual: Dedicação Exclusiva
A9: Identificação do Serviço: PRESTAÇÃO DOS SERVIÇOS CONTINUADOS DE APOIO
A10: Salário Normativo da Categoria Profissional:
A11: Categoria profissional (vinculada à execução Contratual):
A12: Data Base da Categoria (dia/mês/ano):
A13: IDENTIFICAÇÃO DO SERVIÇO
A14: Item do TR | B14: Descrição | C14: Carga Horária | D14: Salário
A15: 1 | B15: Auxiliar de Arquivo | C15: 192 h | D15: 1072.67
A16: MÓDULO 1 - COMPOSIÇÃO DA REMUNERAÇÃO
A17: Submódulo 1.1 - Remuneração
A18: Item | B18: Descrição | C18: Percentual % | D18: Valor (R$)
A19: A | B19: Salário-Base | D19: =D15 -> 1072.67
A20: B | B20: Gratificação | C20: 0 | D20: =ROUND((C20*D15),2) -> 0
A21: C | B21: Outros (especificar)
A22: Total do Submódulo 1.1 | D22: =ROUND(SUM(D19:D21),2) -> 1072.67
A23: Submódulo 1.2 - Pagamentos sem natureza remuneratória
A24: Item | B24: Descrição | C24: Percentual % | D24: Valor (R$)
A25: A | B25: Adicional de Boa Permanência | D25: 0
A26: B | B26: Intervalo Intrajornada | C26: 0 | D26: =ROUND((C26*D22),2) -> 0
A27: C | B27: Outros (especificar)
A28: Total do Submódulo 1.2 | D28: =ROUND(SUM(D25:D27),2) -> 0
A30: Quadro-Resumo do Módulo 1 - Composição da Remuneração
A31: Item | B31: Encargos e Benefícios Anuais, Mensais e Diários | D31: Valor (R$)
A32: 1.1 | B32: Remuneração | D32: =D22 -> 1072.67
A33: 1.2 | B33: Pagamentos sem natureza remuneratória e incidência | D33: =D28 -> 0
A34: TOTAL DO MÓDULO 1 | D34: =SUM(D32:D33) -> 1072.67
A36: MÓDULO 2 - Encargos e Benefícios Anuais, Mensais e Diários
A37: Submódulo 2.1 - 13º (décimo terceiro) Salário, Férias e Adicional de Férias | C37: Percentual % | D37: Valor (R$)
A38: A | B38: 13º (décimo terceiro) Salário | C38: 0.0937 | D38: =ROUND(($D$22*C38),2) -> 100.51
A39: B | B39: Adicional de Férias | C39: 0.0312 | D39: =ROUND(($D$22*C39),2) -> 33.47
A40: Total do Submódulo 2.1 | C40: =SUM(C38:C39) -> 0.1249 | D40: =ROUND(SUM(D38:D39),2) -> 133.98
A42: BASE DE CÁLCULO PARA O MÓDULO 2.2
A43: Submódulo 1.1 + Submódulo 2.1 | D43: =D22+D40 -> 1206.65
...

Sheet 05. CAR
A1: PLANILHA DE CUSTOS E FORMAÇÃO DE PREÇOS
A2: Processo nº
A3: Licitação nº
A4: Data da apresentação da proposta (dia/mês/ano):
A5: Data de apresentação da proposta (mês/ano)
A6: Ano Acordo, Convenção ou Sentença Normativa em Dissídio Coletivo:
A7: Nº de meses de execução contratual: 30 meses
A8: Mão de obra vinculada à execução Contratual: Dedicação Exclusiva
A9: Identificação do Serviço: PRESTAÇÃO DOS SERVIÇOS CONTINUADOS DE APOIO
A10: Salário Normativo da Categoria Profissional:
A11: Categoria profissional (vinculada à execução Contratual):
A12: Data Base da Categoria (dia/mês/ano):
A13: IDENTIFICAÇÃO DO SERVIÇO
A14: Item do TR | B14: Descrição | C14: Carga Horária | D14: Salário
A15: 1 | B15: Agente de Apoio e Serviços | C15: 192 h | D15: 1136.18
A16: MÓDULO 1 - COMPOSIÇÃO DA REMUNERAÇÃO
A17: Submódulo 1.1 - Remuneração
A18: Item | B18: Descrição | C18: Percentual % | D18: Valor (R$)
A19: A | B19: Salário-Base | D19: =D15 -> 1136.18
A20: B | B20: Gratificação | C20: 0 | D20: =ROUND((C20*D15),2) -> 0
A21: C | B21: Outros (especificar)
A22: Total do Submódulo 1.1 | D22: =ROUND(SUM(D19:D21),2) -> 1136.18
A23: Submódulo 1.2 - Pagamentos sem natureza remuneratória
A24: Item | B24: Descrição | C24: Percentual % | D24: Valor (R$)
A25: A | B25: Adicional de Boa Permanência | D25: 0
A26: B | B26: Intervalo Intrajornada | C26: 0 | D26: =ROUND((C26*D22),2) -> 0
A27: C | B27: Outros (especificar)
A28: Total do Submódulo 1.2 | D28: =ROUND(SUM(D25:D27),2) -> 0
A30: Quadro-Resumo do Módulo 1 - Composição da Remuneração
A31: Item | B31: Encargos e Benefícios Anuais, Mensais e Diários | D31: Valor (R$)
A32: 1.1 | B32: Remuneração | D32: =D22 -> 1136.18
A33: 1.2 | B33: Pagamentos sem natureza remuneratória e incidência | D33: =D28 -> 0
A34: TOTAL DO MÓDULO 1 | D34: =SUM(D32:D33) -> 1136.18
A36: MÓDULO 2 - Encargos e Benefícios Anuais, Mensais e Diários
A37: Submódulo 2.1 - 13º (décimo terceiro) Salário, Férias e Adicional de Férias | C37: Percentual % | D37: Valor (R$)
A38: A | B38: 13º (décimo terceiro) Salário | C38: 0.0937 | D38: =ROUND(($D$22*C38),2) -> 106.46
A39: B | B39: Adicional de Férias | C39: 0.0312 | D39: =ROUND(($D$22*C39),2) -> 35.45
A40: Total do Submódulo 2.1 | C40: =SUM(C38:C39) -> 0.1249 | D40: =ROUND(SUM(D38:D39),2) -> 141.91
A42: BASE DE CÁLCULO PARA O MÓDULO 2.2
A43: Submódulo 1.1 + Submódulo 2.1 | D43: =D22+D40 -> 1278.09
...

Sheet 06. LAB
A1: PLANILHA DE CUSTOS E FORMAÇÃO DE PREÇOS
A2: Processo nº
A3: Licitação nº
A4: Data da apresentação da proposta (dia/mês/ano):
A5: Data de apresentação da proposta (mês/ano)
A6: Ano Acordo, Convenção ou Sentença Normativa em Dissídio Coletivo:
A7: Nº de meses de execução contratual: 30 meses
A8: Mão de obra vinculada à execução Contratual: Dedicação Exclusiva
A9: Identificação do Serviço: PRESTAÇÃO DOS SERVIÇOS CONTINUADOS DE APOIO
A10: Salário Normativo da Categoria Profissional:
A11: Categoria profissional (vinculada à execução Contratual):
A12: Data Base da Categoria (dia/mês/ano):
A13: IDENTIFICAÇÃO DO SERVIÇO
A14: Item do TR | B14: Descrição | C14: Carga Horária | D14: Salário
A15: 1 | B15: Auxiliar Técnico em Laboratório | C15: 192 h | D15: 2629.99
A16: MÓDULO 1 - COMPOSIÇÃO DA REMUNERAÇÃO
A17: Submódulo 1.1 - Remuneração
A18: Item | B18: Descrição | C18: Percentual % | D18: Valor (R$)
A19: A | B19: Salário-Base | D19: =D15 -> 2629.99
A20: B | B20: Gratificação | C20: 0 | D20: =ROUND((C20*D15),2) -> 0
A21: C | B21: Outros (especificar)
A22: Total do Submódulo 1.1 | D22: =ROUND(SUM(D19:D21),2) -> 2629.99
A23: Submódulo 1.2 - Pagamentos sem natureza remuneratória
A24: Item | B24: Descrição | C24: Percentual % | D24: Valor (R$)
A25: A | B25: Adicional de Boa Permanência | D25: 0
A26: B | B26: Intervalo Intrajornada | C26: 0 | D26: =ROUND((C26*D22),2) -> 0
A27: C | B27: Outros (especificar)
A28: Total do Submódulo 1.2 | D28: =ROUND(SUM(D25:D27),2) -> 0
A30: Quadro-Resumo do Módulo 1 - Composição da Remuneração
A31: Item | B31: Encargos e Benefícios Anuais, Mensais e Diários | D31: Valor (R$)
A32: 1.1 | B32: Remuneração | D32: =D22 -> 2629.99
A33: 1.2 | B33: Pagamentos sem natureza remuneratória e incidência | D33: =D28 -> 0
A34: TOTAL DO MÓDULO 1 | D34: =SUM(D32:D33) -> 2629.99
A36: MÓDULO 2 - Encargos e Benefícios Anuais, Mensais e Diários
A37: Submódulo 2.1 - 13º (décimo terceiro) Salário, Férias e Adicional de Férias | C37: Percentual % | D37: Valor (R$)
A38: A | B38: 13º (décimo terceiro) Salário | C38: 0.0937 | D38: =ROUND(($D$22*C38),2) -> 246.43
A39: B | B39: Adicional de Férias | C39: 0.0312 | D39: =ROUND(($D$22*C39),2) -> 82.06
A40: Total do Submódulo 2.1 | C40: =SUM(C38:C39) -> 0.1249 | D40: =ROUND(SUM(D38:D39),2) -> 328.49
A42: BASE DE CÁLCULO PARA O MÓDULO 2.2
A43: Submódulo 1.1 + Submódulo 2.1 | D43: =D22+D40 -> 2958.48
...

Sheet 07. COP
A1: PLANILHA DE CUSTOS E FORMAÇÃO DE PREÇOS
A2: Processo nº
A3: Licitação nº
A4: Data da apresentação da proposta (dia/mês/ano):
A5: Data de apresentação da proposta (mês/ano)
A6: Ano Acordo, Convenção ou Sentença Normativa em Dissídio Coletivo:
A7: Nº de meses de execução contratual: 30 meses
A8: Mão de obra vinculada à execução Contratual: Dedicação Exclusiva
A9: Identificação do Serviço: PRESTAÇÃO DOS SERVIÇOS CONTINUADOS DE APOIO
A10: Salário Normativo da Categoria Profissional:
A11: Categoria profissional (vinculada à execução Contratual):
A12: Data Base da Categoria (dia/mês/ano):
A13: IDENTIFICAÇÃO DO SERVIÇO
A14: Item do TR | B14: Descrição | C14: Carga Horária | D14: Salário
A15: 1 | B15: Copeira | C15: 192 h | D15: 1062.13
A16: MÓDULO 1 - COMPOSIÇÃO DA REMUNERAÇÃO
A17: Submódulo 1.1 - Remuneração
A18: Item | B18: Descrição | C18: Percentual % | D18: Valor (R$)
A19: A | B19: Salário-Base | D19: =D15 -> 1062.13
A20: B | B20: Gratificação | C20: 0 | D20: =ROUND((C20*D15),2) -> 0
A21: C | B21: Outros (especificar)
A22: Total do Submódulo 1.1 | D22: =ROUND(SUM(D19:D21),2) -> 1062.13
A23: Submódulo 1.2 - Pagamentos sem natureza remuneratória
A24: Item | B24: Descrição | C24: Percentual % | D24: Valor (R$)
A25: A | B25: Adicional de Boa Permanência | D25: 0
A26: B | B26: Intervalo Intrajornada | C26: 0 | D26: =ROUND((C26*D22),2) -> 0
A27: C | B27: Outros (especificar)
A28: Total do Submódulo 1.2 | D28: =ROUND(SUM(D25:D27),2) -> 0
A30: Quadro-Resumo do Módulo 1 - Composição da Remuneração
A31: Item | B31: Encargos e Benefícios Anuais, Mensais e Diários | D31: Valor (R$)
A32: 1.1 | B32: Remuneração | D32: =D22 -> 1062.13
A33: 1.2 | B33: Pagamentos sem natureza remuneratória e incidência | D33: =D28 -> 0
A34: TOTAL DO MÓDULO 1 | D34: =SUM(D32:D33) -> 1062.13
A36: MÓDULO 2 - Encargos e Benefícios Anuais, Mensais e Diários
A37: Submódulo 2.1 - 13º (décimo terceiro) Salário, Férias e Adicional de Férias | C37: Percentual % | D37: Valor (R$)
A38: A | B38: 13º (décimo terceiro) Salário | C38: 0.0937 | D38: =ROUND(($D$22*C38),2) -> 99.52
A39: B | B39: Adicional de Férias | C39: 0.0312 | D39: =ROUND(($D$22*C39),2) -> 33.14
A40: Total do Submódulo 2.1 | C40: =SUM(C38:C39) -> 0.1249 | D40: =ROUND(SUM(D38:D39),2) -> 132.66
A42: BASE DE CÁLCULO PARA O MÓDULO 2.2
A43: Submódulo 1.1 + Submódulo 2.1 | D43: =D22+D40 -> 1194.79
...

Sheet 08. JAR
A1: PLANILHA DE CUSTOS E FORMAÇÃO DE PREÇOS
A2: Processo nº
A3: Licitação nº
A4: Data da apresentação da proposta (dia/mês/ano):
A5: Data de apresentação da proposta (mês/ano)
A6: Ano Acordo, Convenção ou Sentença Normativa em Dissídio Coletivo:
A7: Nº de meses de execução contratual: 30 meses
A8: Mão de obra vinculada à execução Contratual: Dedicação Exclusiva
A9: Identificação do Serviço: PRESTAÇÃO DOS SERVIÇOS CONTINUADOS DE APOIO
A10: Salário Normativo da Categoria Profissional:
A11: Categoria profissional (vinculada à execução Contratual):
A12: Data Base da Categoria (dia/mês/ano):
A13: IDENTIFICAÇÃO DO SERVIÇO
A14: Item do TR | B14: Descrição | C14: Carga Horária | D14: Salário
A15: 1 | B15: Jardineiro | C15: 192 h | D15: 1117.8
A16: MÓDULO 1 - COMPOSIÇÃO DA REMUNERAÇÃO
A17: Submódulo 1.1 - Remuneração
A18: Item | B18: Descrição | C18: Percentual % | D18: Valor (R$)
A19: A | B19: Salário-Base | D19: =D15 -> 1117.8
A20: B | B20: Gratificação | C20: 0 | D20: =ROUND((C20*D15),2) -> 0
A21: C | B21: Outros (especificar)
A22: Total do Submódulo 1.1 | D22: =ROUND(SUM(D19:D21),2) -> 1117.8
A23: Submódulo 1.2 - Pagamentos sem natureza remuneratória
A24: Item | B24: Descrição | C24: Percentual % | D24: Valor (R$)
A25: A | B25: Adicional de Boa Permanência | D25: 0
A26: B | B26: Intervalo Intrajornada | C26: 0 | D26: =ROUND((C26*D22),2) -> 0
A27: C | B27: Outros (especificar)
A28: Total do Submódulo 1.2 | D28: =ROUND(SUM(D25:D27),2) -> 0
A30: Quadro-Resumo do Módulo 1 - Composição da Remuneração
A31: Item | B31: Encargos e Benefícios Anuais, Mensais e Diários | D31: Valor (R$)
A32: 1.1 | B32: Remuneração | D32: =D22 -> 1117.8
A33: 1.2 | B33: Pagamentos sem natureza remuneratória e incidência | D33: =D28 -> 0
A34: TOTAL DO MÓDULO 1 | D34: =SUM(D32:D33) -> 1117.8
A36: MÓDULO 2 - Encargos e Benefícios Anuais, Mensais e Diários
A37: Submódulo 2.1 - 13º (décimo terceiro) Salário, Férias e Adicional de Férias | C37: Percentual % | D37: Valor (R$)
A38: A | B38: 13º (décimo terceiro) Salário | C38: 0.0937 | D38: =ROUND(($D$22*C38),2) -> 104.74
A39: B | B39: Adicional de Férias | C39: 0.0312 | D39: =ROUND(($D$22*C39),2) -> 34.88
A40: Total do Submódulo 2.1 | C40: =SUM(C38:C39) -> 0.1249 | D40: =ROUND(SUM(D38:D39),2) -> 139.62
A42: BASE DE CÁLCULO PARA O MÓDULO 2.2
A43: Submódulo 1.1 + Submódulo 2.1 | D43: =D22+D40 -> 1257.42
...

Sheet 09. POR
A1: PLANILHA DE CUSTOS E FORMAÇÃO DE PREÇOS
A2: Processo nº
A3: Licitação nº
A4: Data da apresentação da proposta (dia/mês/ano):
A5: Data de apresentação da proposta (mês/ano)
A6: Ano Acordo, Convenção ou Sentença Normativa em Dissídio Coletivo:
A7: Nº de meses de execução contratual: 30 meses
A8: Mão de obra vinculada à execução Contratual: Dedicação Exclusiva
A9: Identificação do Serviço: PRESTAÇÃO DOS SERVIÇOS CONTINUADOS DE APOIO
A10: Salário Normativo da Categoria Profissional:
A11: Categoria profissional (vinculada à execução Contratual):
A12: Data Base da Categoria (dia/mês/ano):
A13: IDENTIFICAÇÃO DO SERVIÇO
A14: Item do TR | B14: Descrição | C14: Carga Horária | D14: Salário
A15: 1 | B15: Porteiro 12X36 Diurno | C15: 192 h | D15: 1128.33
A16: MÓDULO 1 - COMPOSIÇÃO DA REMUNERAÇÃO
A17: Submódulo 1.1 - Remuneração
A18: Item | B18: Descrição | C18: Percentual % | D18: Valor (R$)
A19: A | B19: Salário-Base | D19: =D15 -> 1128.33
A20: B | B20: Gratificação | C20: 0 | D20: =ROUND((C20*D15),2) -> 0
A21: C | B21: Outros (especificar)
A22: Total do Submódulo 1.1 | D22: =ROUND(SUM(D19:D21),2) -> 1128.33
A23: Submódulo 1.2 - Pagamentos sem natureza remuneratória
A24: Item | B24: Descrição | C24: Percentual % | D24: Valor (R$)
A25: A | B25: Adicional de Boa Permanência | D25: 0
A26: B | B26: Intervalo Intrajornada | C26: 0 | D26: =ROUND((C26*D22),2) -> 0
A27: C | B27: Outros (especificar)
A28: Total do Submódulo 1.2 | D28: =ROUND(SUM(D25:D27),2) -> 0
A30: Quadro-Resumo do Módulo 1 - Composição da Remuneração
A31: Item | B31: Encargos e Benefícios Anuais, Mensais e Diários | D31: Valor (R$)
A32: 1.1 | B32: Remuneração | D32: =D22 -> 1128.33
A33: 1.2 | B33: Pagamentos sem natureza remuneratória e incidência | D33: =D28 -> 0
A34: TOTAL DO MÓDULO 1 | D34: =SUM(D32:D33) -> 1128.33
A36: MÓDULO 2 - Encargos e Benefícios Anuais, Mensais e Diários
A37: Submódulo 2.1 - 13º (décimo terceiro) Salário, Férias e Adicional de Férias | C37: Percentual % | D37: Valor (R$)
A38: A | B38: 13º (décimo terceiro) Salário | C38: 0.0937 | D38: =ROUND(($D$22*C38),2) -> 105.72
A39: B | B39: Adicional de Férias | C39: 0.0312 | D39: =ROUND(($D$22*C39),2) -> 35.2
A40: Total do Submódulo 2.1 | C40: =SUM(C38:C39) -> 0.1249 | D40: =ROUND(SUM(D38:D39),2) -> 140.92
A42: BASE DE CÁLCULO PARA O MÓDULO 2.2
A43: Submódulo 1.1 + Submódulo 2.1 | D43: =D22+D40 -> 1269.25
...

Sheet 10. POR
A1: PLANILHA DE CUSTOS E FORMAÇÃO DE PREÇOS
A2: Processo nº
A3: Licitação nº
A4: Data da apresentação da proposta (dia/mês/ano):
A5: Data de apresentação da proposta (mês/ano)
A6: Ano Acordo, Convenção ou Sentença Normativa em Dissídio Coletivo:
A7: Nº de meses de execução contratual: 30 meses
A8: Mão de obra vinculada à execução Contratual: Dedicação Exclusiva
A9: Identificação do Serviço: PRESTAÇÃO DOS SERVIÇOS CONTINUADOS DE APOIO
A10: Salário Normativo da Categoria Profissional:
A11: Categoria profissional (vinculada à execução Contratual):
A12: Data Base da Categoria (dia/mês/ano):
A13: IDENTIFICAÇÃO DO SERVIÇO
A14: Item do TR | B14: Descrição | C14: Carga Horária | D14: Salário
A15: 1 | B15: Porteiro 12X36 Noturno | C15: 192 | D15: 1128.33
A16: MÓDULO 1 - COMPOSIÇÃO DA REMUNERAÇÃO
A17: Submódulo 1.1 - Remuneração
A18: Item | B18: Descrição | C18: Percentual % | D18: Valor (R$)
A19: A | B19: Salário-Base | D19: =D15 -> 1128.33
A20: B | B20: Adicional Noturno | C20: 0.225 | D20: =(7*(192/12)*(D15/C15)*C20) -> 148.09331
A21: C | B21: Outros (especificar)
A22: Total do Submódulo 1.1 | D22: =ROUND(SUM(D19:D21),2) -> 1276.42
A23: Submódulo 1.2 - Pagamentos sem natureza remuneratória
A24: Item | B24: Descrição | C24: Percentual % | D24: Valor (R$)
A25: A | B25: Adicional de Boa Permanência | D25: 0
A26: B | B26: Intervalo Intrajornada | C26: 0 | D26: =ROUND((C26*D22),2) -> 0
A27: C | B27: Outros (especificar)
A28: Total do Submódulo 1.2 | D28: =ROUND(SUM(D25:D27),2) -> 0
A30: Quadro-Resumo do Módulo 1 - Composição da Remuneração
A31: Item | B31: Encargos e Benefícios Anuais, Mensais e Diários | D31: Valor (R$)
A32: 1.1 | B32: Remuneração | D32: =D22 -> 1276.42
A33: 1.2 | B33: Pagamentos sem natureza remuneratória e incidência | D33: =D28 -> 0
A34: TOTAL DO MÓDULO 1 | D34: =SUM(D32:D33) -> 1276.42
A36: MÓDULO 2 - Encargos e Benefícios Anuais, Mensais e Diários
A37: Submódulo 2.1 - 13º (décimo terceiro) Salário, Férias e Adicional de Férias | C37: Percentual % | D37: Valor (R$)
A38: A | B38: 13º (décimo terceiro) Salário | C38: 0.0937 | D38: =ROUND(($D$22*C38),2) -> 119.6
A39: B | B39: Adicional de Férias | C39: 0.0312 | D39: =ROUND(($D$22*C39),2) -> 39.82
A40: Total do Submódulo 2.1 | C40: =SUM(C38:C39) -> 0.1249 | D40: =ROUND(SUM(D38:D39),2) -> 159.42
A42: BASE DE CÁLCULO PARA O MÓDULO 2.2
A43: Submódulo 1.1 + Submódulo 2.1 | D43: =D22+D40 -> 1435.84
...

Sheet 11. POR
A1: PLANILHA DE CUSTOS E FORMAÇÃO DE PREÇOS
A2: Processo nº
A3: Licitação nº
A4: Data da apresentação da proposta (dia/mês/ano):
A5: Data de apresentação da proposta (mês/ano)
A6: Ano Acordo, Convenção ou Sentença Normativa em Dissídio Coletivo:
A7: Nº de meses de execução contratual: 30 meses
A8: Mão de obra vinculada à execução Contratual: Dedicação Exclusiva
A9: Identificação do Serviço: PRESTAÇÃO DOS SERVIÇOS CONTINUADOS DE APOIO
A10: Salário Normativo da Categoria Profissional:
A11: Categoria profissional (vinculada à execução Contratual):
A12: Data Base da Categoria (dia/mês/ano):
A13: IDENTIFICAÇÃO DO SERVIÇO
A14: Item do TR | B14: Descrição | C14: Carga Horária | D14: Salário
A15: 1 | B15: PORTEIRO 44H | C15: 192 h | D15: 1128.33
A16: MÓDULO 1 - COMPOSIÇÃO DA REMUNERAÇÃO
A17: Submódulo 1.1 - Remuneração
A18: Item | B18: Descrição | C18: Percentual % | D18: Valor (R$)
A19: A | B19: Salário-Base | D19: =D15 -> 1128.33
A20: B | B20: Gratificação | C20: 0 | D20: =ROUND((C20*D15),2) -> 0
A21: C | B21: Outros (especificar)
A22: Total do Submódulo 1.1 | D22: =ROUND(SUM(D19:D21),2) -> 1128.33
A23: Submódulo 1.2 - Pagamentos sem natureza remuneratória
A24: Item | B24: Descrição | C24: Percentual % | D24: Valor (R$)
A25: A | B25: Adicional de Boa Permanência | D25: 0
A26: B | B26: Intervalo Intrajornada | C26: 0 | D26: =ROUND((C26*D22),2) -> 0
A27: C | B27: Outros (especificar)
A28: Total do Submódulo 1.2 | D28: =ROUND(SUM(D25:D27),2) -> 0
A30: Quadro-Resumo do Módulo 1 - Composição da Remuneração
A31: Item | B31: Encargos e Benefícios Anuais, Mensais e Diários | D31: Valor (R$)
A32: 1.1 | B32: Remuneração | D32: =D22 -> 1128.33
A33: 1.2 | B33: Pagamentos sem natureza remuneratória e incidência | D33: =D28 -> 0
A34: TOTAL DO MÓDULO 1 | D34: =SUM(D32:D33) -> 1128.33
A36: MÓDULO 2 - Encargos e Benefícios Anuais, Mensais e Diários
A37: Submódulo 2.1 - 13º (décimo terceiro) Salário, Férias e Adicional de Férias | C37: Percentual % | D37: Valor (R$)
A38: A | B38: 13º (décimo terceiro) Salário | C38: 0.0937 | D38: =ROUND(($D$22*C38),2) -> 105.72
A39: B | B39: Adicional de Férias | C39: 0.0312 | D39: =ROUND(($D$22*C39),2) -> 35.2
A40: Total do Submódulo 2.1 | C40: =SUM(C38:C39) -> 0.1249 | D40: =ROUND(SUM(D38:D39),2) -> 140.92
A42: BASE DE CÁLCULO PARA O MÓDULO 2.2
A43: Submódulo 1.1 + Submódulo 2.1 | D43: =D22+D40 -> 1269.25
...

Sheet 12. REC
A1: PLANILHA DE CUSTOS E FORMAÇÃO DE PREÇOS
A2: Processo nº
A3: Licitação nº
A4: Data da apresentação da proposta (dia/mês/ano):
A5: Data de apresentação da proposta (mês/ano)
A6: Ano Acordo, Convenção ou Sentença Normativa em Dissídio Coletivo:
A7: Nº de meses de execução contratual: 30 meses
A8: Mão de obra vinculada à execução Contratual: Dedicação Exclusiva
A9: Identificação do Serviço: PRESTAÇÃO DOS SERVIÇOS CONTINUADOS DE APOIO
A10: Salário Normativo da Categoria Profissional:
A11: Categoria profissional (vinculada à execução Contratual):
A12: Data Base da Categoria (dia/mês/ano):
A13: IDENTIFICAÇÃO DO SERVIÇO
A14: Item do TR | B14: Descrição | C14: Carga Horária | D14: Salário
A15: 1 | B15: Recpecionista II | C15: 192 h | D15: 1161.78
A16: MÓDULO 1 - COMPOSIÇÃO DA REMUNERAÇÃO
A17: Submódulo 1.1 - Remuneração
A18: Item | B18: Descrição | C18: Percentual % | D18: Valor (R$)
A19: A | B19: Salário-Base | D19: =D15 -> 1161.78
A20: B | B20: Gratificação | C20: 0 | D20: =ROUND((C20*D15),2) -> 0
A21: C | B21: Outros (especificar)
A22: Total do Submódulo 1.1 | D22: =ROUND(SUM(D19:D21),2) -> 1161.78
A23: Submódulo 1.2 - Pagamentos sem natureza remuneratória
A24: Item | B24: Descrição | C24: Percentual % | D24: Valor (R$)
A25: A | B25: Adicional de Boa Permanência | D25: 0
A26: B | B26: Intervalo Intrajornada | C26: 0 | D26: =ROUND((C26*D22),2) -> 0
A27: C | B27: Outros (especificar)
A28: Total do Submódulo 1.2 | D28: =ROUND(SUM(D25:D27),2) -> 0
A30: Quadro-Resumo do Módulo 1 - Composição da Remuneração
A31: Item | B31: Encargos e Benefícios Anuais, Mensais e Diários | D31: Valor (R$)
A32: 1.1 | B32: Remuneração | D32: =D22 -> 1161.78
A33: 1.2 | B33: Pagamentos sem natureza remuneratória e incidência | D33: =D28 -> 0
A34: TOTAL DO MÓDULO 1 | D34: =SUM(D32:D33) -> 1161.78
A36: MÓDULO 2 - Encargos e Benefícios Anuais, Mensais e Diários
A37: Submódulo 2.1 - 13º (décimo terceiro) Salário, Férias e Adicional de Férias | C37: Percentual % | D37: Valor (R$)
A38: A | B38: 13º (décimo terceiro) Salário | C38: 0.0937 | D38: =ROUND(($D$22*C38),2) -> 108.86
A39: B | B39: Adicional de Férias | C39: 0.0312 | D39: =ROUND(($D$22*C39),2) -> 36.25
A40: Total do Submódulo 2.1 | C40: =SUM(C38:C39) -> 0.1249 | D40: =ROUND(SUM(D38:D39),2) -> 145.11
A42: BASE DE CÁLCULO PARA O MÓDULO 2.2
A43: Submódulo 1.1 + Submódulo 2.1 | D43: =D22+D40 -> 1306.89
...

Sheet 13. LEDOR
A1: PLANILHA DE CUSTOS E FORMAÇÃO DE PREÇOS
A2: Processo nº
A3: Licitação nº
A4: Data da apresentação da proposta (dia/mês/ano):
A5: Data de apresentação da proposta (mês/ano)
A6: Ano Acordo, Convenção ou Sentença Normativa em Dissídio Coletivo:
A7: Nº de meses de execução contratual: 30 meses
A8: Mão de obra vinculada à execução Contratual: Dedicação Exclusiva
A9: Identificação do Serviço: PRESTAÇÃO DOS SERVIÇOS CONTINUADOS DE APOIO
A10: Salário Normativo da Categoria Profissional:
A11: Categoria profissional (vinculada à execução Contratual):
A12: Data Base da Categoria (dia/mês/ano):
A13: IDENTIFICAÇÃO DO SERVIÇO
A14: Item do TR | B14: Descrição | C14: Carga Horária | D14: Salário
A15: 1 | B15: Ledor (Recepcionista V) | C15: 96 | D15: 1957.28
A16: MÓDULO 1 - COMPOSIÇÃO DA REMUNERAÇÃO
A17: Submódulo 1.1 - Remuneração
A18: Item | B18: Descrição | C18: Percentual % | D18: Valor (R$)
A19: A | B19: Salário-Base | C19: 0.5 | D19: =D15/2 -> 978.64
A20: B | B20: Gratificação | C20: 0 | D20: =ROUND((C20*D15),2) -> 0
A21: C | B21: Outros (especificar)
A22: Total do Submódulo 1.1 | D22: =ROUND(SUM(D19:D21),2) -> 978.64
A23: Submódulo 1.2 - Pagamentos sem natureza remuneratória
A24: Item | B24: Descrição | C24: Percentual % | D24: Valor (R$)
A25: A | B25: Adicional de Boa Permanência | D25: 0
A26: B | B26: Intervalo Intrajornada | C26: 0 | D26: =ROUND((C26*D22),2) -> 0
A27: C | B27: Outros (especificar)
A28: Total do Submódulo 1.2 | D28: =ROUND(SUM(D25:D27),2) -> 0
A30: Quadro-Resumo do Módulo 1 - Composição da Remuneração
A31: Item | B31: Encargos e Benefícios Anuais, Mensais e Diários | D31: Valor (R$)
A32: 1.1 | B32: Remuneração | D32: =D22 -> 978.64
A33: 1.2 | B33: Pagamentos sem natureza remuneratória e incidência | D33: =D28 -> 0
A34: TOTAL DO MÓDULO 1 | D34: =SUM(D32:D33) -> 978.64
A36: MÓDULO 2 - Encargos e Benefícios Anuais, Mensais e Diários
A37: Submódulo 2.1 - 13º (décimo terceiro) Salário, Férias e Adicional de Férias | C37: Percentual % | D37: Valor (R$)
A38: A | B38: 13º (décimo terceiro) Salário | C38: 0.0937 | D38: =ROUND(($D$22*C38),2) -> 91.7
A39: B | B39: Adicional de Férias | C39: 0.0312 | D39: =ROUND(($D$22*C39),2) -> 30.53
A40: Total do Submódulo 2.1 | C40: =SUM(C38:C39) -> 0.1249 | D40: =ROUND(SUM(D38:D39),2) -> 122.23
A42: BASE DE CÁLCULO PARA O MÓDULO 2.2
A43: Submódulo 1.1 + Submódulo 2.1 | D43: =D22+D40 -> 1100.87
...

Sheet UNIFORMES
A1: PLANILHA DE CUSTSOS - UNIFORMES
A3: Conjunto de Uniforme completo para os postos de Almoxarife
A4: Item | B4: Descrição | C4: Und. De Medida | D4: Qtd. | E4: Preço Unitário | F4: Periodicidade | G4: Qtd. Anual | H4: Valor Mensal
A5: 1 | B5: Camisa: Padrão tipo polo manga curta, em tecido 100% algodão, com identificação da CONTRATADA. | C5: Unidade | D5: 2 | F5: Semestral | G5: 4 | H5: =(E5*G5)/12 -> 0
A6: 2 | B6: Calça: Social modelo padrão social, cor preta. | C6: Unidade | D6: 2 | F6: Semestral | G6: 4 | H6: =(E6*G6)/12 -> 0
A7: 3 | B7: Cinto: Modelo social, confeccionado em Couro, cor preta. | C7: Unidade | D7: 2 | F7: Semestral | G7: 4 | H7: =(E7*G7)/12 -> 0
A8: 4 | B8: Calçado: Botina ou bota, confeccionado em couro cor preta. | C8: Par | D8: 2 | F8: Semestral | G8: 4 | H8: =(E8*G8)/12 -> 0
A9: 5 | B9: Meias: Confeccionada em tecido 100% algodão, cor preta. | C9: Par | D9: 6 | F9: Semestral | G9: 12 | H9: =(E9*G9)/12 -> 0
A10: 6 | B10: Crachá de Identificação: Formato 86x56mm. Material PVC. Espessura 0,7mm. Impressão 4x1. Com cordão tipo “jacaré”. | C10: Unidade | D10: 1 | F10: Semestral | G10: 2 | H10: =(E10*G10)/12 -> 0
A11: CUSTO MENSAL DO UNIFORME POR EMPREGADO | H11: =SUM(H5:H10) -> 0
A12: Obs: Será pago somente o valor efetivamente gasto no mês, mediante a apresentação de documento fiscal
A14: Conjunto de Uniforme completo para os postos de Assistente Administrativo Operacional I; Auxiliar Administrartivo II; Auxiliar de arquivo; Recepcionista II; Ledor; Porteiro 12x36 Diurno, Porteiro 12x36 Noturno, Porteiro 44 horas
A15: Item | B15: Descrição | C15: Und. De Medida | D15: Qtd. | E15: Preço Unitário | F15: Periodicidade | G15: Qtd. Anual | H15: Valor Mensal
A16: 1 | B16: Camisa para o sexo masculino: camisa padrão tipo polo manga curta, em tecido 100% algodão, com identificação da empresa. Camisa para o sexo feminino: camisa Social confeccionada em tecido, gola com entretela, mangas curtas com identificação da empresa. | C16: Unidade | D16: 2 | F16: Semestral | G16: 4 | H16: =(E16*G16)/12 -> 0
A17: 2 | B17: Calça: Social modelo padrão social, cor preta. | C17: Unidade | D17: 2 | F17: Semestral | G17: 4 | H17: =(E17*G17)/12 -> 0
A18: 3 | B18: Cinto: Modelo social, confeccionado em Couro, na mesma cor do calçado. | C18: Unidade | D18: 2 | F18: Semestral | G18: 4 | H18: =(E18*G18)/12 -> 0
A19: 4 | B19: Calçado: Para o sexo masculino botina ou bota, confeccionado em couro cor preta. Para o sexo feminino sapato, na cor preta, de boa qualidade, forro e palmilha em couro e solado de borracha e salto de 3 cm (três centímetros) de altura, material flexível, tipo couro, tipo scarpin ou estilo boneca. | C19: Par | D19: 2 | F19: Semestral | G19: 4 | H19: =(E19*G19)/12 -> 0
A20: 5 | B20: Meias: Meia Para o sexo masculino meia confeccionada em tecido 100% algodão, cor preta e boa qualidade. Para o sexo feminino meia social 3/, feminina, lisa, na cor do sapato, de boa qualidade. | C20: Par | D20: 6 | F20: Semestral | G20: 12 | H20: =(E20*G20)/12 -> 0
A21: 6 | B21: Crachá de Identificação: Formato 86x56mm. Material PVC. Espessura 0,7mm. Impressão 4x1. Com cordão tipo “jacaré”. | C21: Unidade | D21: 1 | F21: Semestral | G21: 2 | H21: =(E21*G21)/12 -> 0
A22: CUSTO MENSAL DO UNIFORME POR EMPREGADO | H22: =SUM(H16:H21) -> 0
A23: Obs: Será pago somente o valor efetivamente gasto no mês, mediante a apresentação de documento fiscal
A25: Conjunto de Uniforme completo para os postos de Auxiliar Técnico de Laboratório
A26: Item | B26: Descrição | C26: Und. De Medida | D26: Qtd. | E26: Preço Unitário | F26: Periodicidade | G26: Qtd. Anual | H26: Valor Mensal
A27: 1 | B27: Jaleco: Jaleco em Gabardine Microfibra, manga longa (referência tecidos Biasi) na cor Branca, modelo Gola Padre, Aberto com fechamento em botão comum, 01 bolso bordado: Local no Bolso Central “Logomarca da UFSB” e embaixo o nome da função do profissional, 02 bolsos na parte inferior, abertura atrás com faixa fixa, local manga direita bordado “logomarca UFSB”. | C27: Unidade | D27: 2 | F27: Semestral | G27: 4 | H27: =(E27*G27)/12 -> 0
A28: 2 | B28: Camisa: Padrão tipo polo manga curta, em tecido 100% algodão, com identificação da CONTRATADA. | C28: Unidade | D28: 2 | F28: Semestral | G28: 4 | H28: =(E28*G28)/12 -> 0
A29: 3 | B29: Calça: Social modelo padrão social, cor preta. | C29: Unidade | D29: 2 | F29: Semestral | G29: 4 | H29: =(E29*G29)/12 -> 0
A30: 4 | B30: Cinto: Modelo social, confeccionado em Couro, na mesma cor do calçado. | C30: Par | D30: 2 | F30: Semestral | G30: 4 | H30: =(E30*G30)/12 -> 0
A31: 5 | B31: Calçado: Para o sexo masculino botina ou bota, confeccionado em couro cor preta. Para o sexo feminino sapato, na cor preta, de boa qualidade, forro e palmilha em couro e solado de borracha e salto de 3 cm (três centímetros) de altura, material flexível, tipo couro, tipo scarpin ou estilo boneca. | C31: Par | D31: 2 | F31: Semestral | G31: 2 | H31: =(E31*G31)/12 -> 0
A32: 6 | B32: Meias: Meia Para o sexo masculino meia confeccionada em tecido 100% algodão, cor preta e boa qualidade. Para o sexo feminino meia social 3/, feminina, lisa, na cor do sapato, de boa qualidade. | C32: Par | D32: 6 | F32: Semestral | G32: 6 | H32: =(E32*G32)/12 -> 0
A33: 7 | B33: Crachá de Identificação: Formato 86x56mm. Material PVC. Espessura 0,7mm. Impressão 4x1. Com cordão tipo “jacaré”. | C33: Unidade | D33: 1 | F33: Semestral | G33: 1 | H33: =(E33*G33)/12 -> 0
A34: CUSTO MENSAL DO UNIFORME POR EMPREGADO | H34: =SUM(H27:H33) -> 0
A35: Obs: Será pago somente o valor efetivamente gasto no mês, mediante a apresentação de documento fiscal
A37: Conjunto de Uniforme completo para os postos de Copeiragem
A38: Item | B38: Descrição | C38: Und. De Medida | D38: Qtd. | E38: Preço Unitário | F38: Periodicidade | G38: Qtd. Anual | H38: Valor Mensal
A39: 1 | B39: Camisa: Padrão tipo polo manga curta, em tecido 100% algodão, com identificação da CONTRATADA. | C39: Unidade | D39: 2 | F39: Semestral | G39: 4 | H39: =(E39*G39)/12 -> 0
A40: 2 | B40: Calça: Social modelo padrão social, com viscose ou similar, cor preta. | C40: Unidade | D40: 2 | F40: Semestral | G40: 4 | H40: =(E40*G40)/12 -> 0
A41: 3 | B41: Cinto: Modelo social, confeccionado em Couro, na mesma cor do calçado. | C41: Unidade | D41: 2 | F41: Semestral | G41: 4 | H41: =(E41*G41)/12 -> 0
A42: 4 | B42: Calçado: Para o sexo masculino botina ou bota, confeccionado em couro cor preta. Para o sexo feminino sapato, na cor preta, de boa qualidade, forro e palmilha em couro e solado de borracha e salto de 3 cm (três centímetros) de altura, material flexível, tipo couro, tipo scarpin ou estilo boneca. | C42: Par | D42: 2 | F42: Semestral | G42: 4 | H42: =(E42*G42)/12 -> 0
A43: 5 | B43: Meias: Meia Para o sexo masculino meia confeccionada em tecido 100% algodão, cor preta e boa qualidade. Para o sexo feminino meia social 3/, feminina, lisa, na cor do sapato, de boa qualidade. | C43: Par | D43: 6 | F43: Semestral | G43: 12 | H43: =(E43*G43)/12 -> 0
A44: 6 | B44: Crachá de Identificação: Formato 86x56mm. Material PVC. Espessura 0,7mm. Impressão 4x1. Com cordão tipo “jacaré”. | C44: Unidade | D44: 1 | F44: Semestral | G44: 2 | H44: =(E44*G44)/12 -> 0
...

Sheet MATERIAIS
A1: PLANILHA DE MATERIAIS
A3: Materiais previstos para o posto de ALMOXARIFE e AGENTE DE APOIO E SERVIÇOS
A4: Item | B4: Descrição | C4: Und. De Medida | D4: Qtd. | E4: Preço Unitário | F4: Periodicidade | G4: Qtd. Anual | H4: Valor Mensal
A5: 1 | B5: Respirador descartável tipo peça semifácil filtrante para poeiras, névoas e fumos, classe PFF-2. | C5: Unidade | D5: 10 | F5: Mensal | G5: =D5*12 -> 120 | H5: =(E5*G5)/12 -> 0
A6: 2 | B6: Luva de algodão, malha, pigmentada, tricotada com 04 fios. | C6: Unidade | D6: 2 | F6: Semestral | G6: =D6*2 -> 4 | H6: =(E6*G6)/12 -> 0
A7: Valor Mensal | H7: =SUM(H5:H6) -> 0
A8: Obs: Será pago somente o valor efetivamente gasto no mês, mediante a apresentação de documento fiscal.
A10: Materiais previstos para o posto de AUXILIAR DE ARQUIVO
A11: Item | B11: Descrição | C11: Und. De Medida | D11: Qtd. | E11: Preço Unitário | F11: Periodicidade | G11: Qtd. Anual | H11: Valor Mensal
A12: 1 | B12: Luva para procedimento não cirúrgico em látex, descartável. | C12: Caixa com 100 Und. | D12: 1 | F12: Bimestral | G12: 6 | H12: =(E12*G12)/12 -> 0
A13: 2 | B13: Máscara de proteção contra poeira, mofo, fungos, descartável. | C13: Caixa com 50 und. | D13: 1 | F13: Mensal | G13: 12 | H13: =(E13*G13)/12 -> 0
A14: Valor Mensal | H14: =SUM(H12:H13) -> 0
A15: Obs: Será pago somente o valor efetivamente gasto no mês, mediante a apresentação de documento fiscal.
A17: Materiais previstos para o posto de COPEIRAGEM
A18: Item | B18: Descrição | C18: Und. De Medida | D18: Qtd. | E18: Preço Unitário | F18: Periodicidade | G18: Qtd. Anual | H18: Valor Mensal
A19: 1 | B19: Coador de café de pano | C19: Unidade | D19: 10 | F19: Mensal | G19: =D19*12 -> 120 | H19: =(E19*G19)/12 -> 0
A20: 2 | B20: Copo Descartável 50 ml | C20: Pct. 100 und. | D20: 30 | F20: Mensal | G20: =D20*12 -> 360 | H20: =(E20*G20)/12 -> 0
A21: 3 | B21: Esponja bucha de lavar louça dupla face | C21: Unidade | D21: 16 | F21: Mensal | G21: =D21*12 -> 192 | H21: =(E21*G21)/12 -> 0
A22: 4 | B22: Mini Colher para chá e café descartável | C22: Pct. 100 und. | D22: 30 | F22: Mensal | G22: =D22*12 -> 360 | H22: =(E22*G22)/12 -> 0
A23: 5 | B23: Guardanapo descartável de papel 23x23 cm | C23: Pct. 50 und. | D23: 60 | F23: Mensal | G23: =D23*12 -> 720 | H23: =(E23*G23)/12 -> 0
A24: 6 | B24: Pano de Prato | C24: Unidade | D24: 10 | F24: Mensal | G24: =D24*12 -> 120 | H24: =(E24*G24)/12 -> 0
A25: Valor Mensal | H25: =SUM(H19:H24) -> 0
A26: Obs: Será pago somente o valor efetivamente gasto no mês, mediante a apresentação de documento fiscal.
A28: Materiais previstos para o posto de JARDINEIRO
A29: Item | B29: Descrição | C29: Und. De Medida | D29: Qtd. | E29: Preço Unitário | F29: Periodicidade | G29: Qtd. Anual | H29: Valor Mensal
A30: 1 | B30: Adubo (NPK) saco 50 kg | C30: Saco 50kg | D30: 0.5 | F30: Mensal | G30: =D30*12 -> 6 | H30: =(E30*G30)/12 -> 0
A31: 2 | B31: Herbicida seletivo para germíneas | C31: Litro | D31: 1 | F31: Mensal | G31: =D31*12 -> 12 | H31: =(E31*G31)/12 -> 0
A32: 3 | B32: Ureia | C32: Saco 50 kg | D32: 1 | F32: Mensal | G32: =D32*12 -> 12 | H32: =(E32*G32)/12 -> 0
A33: 4 | B33: Calcário para gramado | C33: Pct. 5 kg | D33: 1.7 | F33: Mensal | G33: =D33*12 -> 20.4 | H33: =(E33*G33)/12 -> 0
A34: Valor Mensal | H34: =SUM(H30:H33) -> 0
A35: Obs: Será pago somente o valor efetivamente gasto no mês, mediante a apresentação de documento fiscal.
A37: Materiais previstos para os postos de PORTEIRO 12X36 DIURNO; PORTEIRO 12X36 NOTURNO E PORTEIRO 44 HORAS
A38: Item | B38: Descrição | C38: Und. De Medida | D38: Qtd. | E38: Preço Unitário | F38: Periodicidade | G38: Qtd. Anual | H38: Valor Mensal
A39: 1 | B39: Livro de Ocorrências 50 fls. | C39: Unidade | D39: 1 | F39: Mensal | G39: =D39*12 -> 12 | H39: =(E39*G39)/12 -> 0
A40: Valor Mensal | H40: =SUM(H39:H39) -> 0
A41: Obs: Será pago somente o valor efetivamente gasto no mês, mediante a apresentação de documento fiscal.

Sheet EQUIPAMENTOS
A1: PLANILHA DE EQUIPAMENTOS
A3: Equipamentos previstos para o posto de AGENTE DE APOIO E SERVIÇOS
A4: Item | B4: Descrição | C4: Und. De Medida | D4: Qtd. | E4: Preço Unitário | F4: Periodicidade | G4: Qtd. Anual | H4: Valor Mensal
A5: 1 | B5: Alicate | C5: Unidade | D5: 1 | F5: Anual | G5: =1 -> 1 | H5: =(E5*G5)/12 -> 0
A6: 2 | B6: Arco de Serra | C6: Unidade | D6: 1 | F6: Anual | G6: =1 -> 1 | H6: =(E6*G6)/12 -> 0
A7: 3 | B7: Carrinho de carga com aba prolongadora, estrutura metálica, roda pneumática (pneu com câmara). Capacidade de carga: 200 kg. | C7: Unidade | D7: 1 | F7: Anual | G7: =1 -> 1 | H7: =(E7*G7)/12 -> 0
A8: 4 | B8: Cinta ergonômica abdominal com suspensório. | C8: Unidade | D8: 1 | F8: Anual | G8: =1 -> 1 | H8: =(E8*G8)/12 -> 0
A9: 5 | B9: Extensão Elétrica | C9: Unidade | D9: 1 | F9: Anual | G9: =1 -> 1 | H9: =(E9*G9)/12 -> 0
A10: 6 | B10: Furadeira e Parafusadeira | C10: Unidade | D10: 1 | F10: Anual | G10: =1 -> 1 | H10: =(E10*G10)/12 -> 0
A11: 7 | B11: Kit Chaves Fenda e Phillips | C11: Unidade | D11: 1 | F11: Anual | G11: =1 -> 1 | H11: =(E11*G11)/12 -> 0
A12: 8 | B12: Martelo | C12: Unidade | D12: 1 | F12: Anual | G12: =1 -> 1 | H12: =(E12*G12)/12 -> 0
A13: 9 | B13: Pé de Cabra | C13: Unidade | D13: 1 | F13: Anual | G13: =1 -> 1 | H13: =(E13*G13)/12 -> 0
A14: 10 | B14: Lâmina para arco de serra | C14: Unidade | D14: 3 | F14: Mensal | G14: =D14*12 -> 36 | H14: =(E14*G14)/12 -> 0
A15: 11 | B15: Serrote | C15: Unidade | D15: 1 | F15: Anual | G15: =1 -> 1 | H15: =(E15*G15)/12 -> 0
A16: 12 | B16: Talhadeira | C16: Unidade | D16: 1 | F16: Anual | G16: =1 -> 1 | H16: =(E16*G16)/12 -> 0
A17: 13 | B17: Trena | C17: Unidade | D17: 1 | F17: Anual | G17: =1 -> 1 | H17: =(E17*G17)/12 -> 0
A18: Valor Mensal | H18: =SUM(H5:H17) -> 0
A19: Obs: Será pago somente o valor efetivamente gasto no mês, mediante a apresentação de documento fiscal.
A21: Equipamentos previstos para o posto de COPEIRAGEM
A22: Item | B22: Descrição | C22: Und. De Medida | D22: Qtd. | E22: Preço Unitário | F22: Periodicidade | G22: Qtd. Anual | H22: Valor Mensal
A23: 1 | B23: Porta copos para copos descartáveis em aço inox | C23: Unidade | D23: 15 | F23: Anual | G23: =D23 -> 15 | H23: =(E23*G23)/12 -> 0
A24: 2 | B24: Conjunto de xícaras de café com pires de porcelana, brancas (D x A): 6 x 5 cm. Capacidade 70 ml (6 unidades). | C24: Conjunto | D24: 6 | F24: Anual | G24: =D24 -> 6 | H24: =(E24*G24)/12 -> 0
A25: 3 | B25: Conjunto de Copos tipo “Nadir Figueiredo”, Long Drink Oca de 400 Ml (6 unidades). | C25: Conjunto | D25: 6 | F25: Anual | G25: =D25 -> 6 | H25: =(E25*G25)/12 -> 0
A26: 4 | B26: Jarra de suco/água de vidro tipo “Pasahbace Karat” 1,8/2 Litros | C26: Unidade | D26: 3 | F26: Anual | G26: =D26 -> 3 | H26: =(E26*G26)/12 -> 0
B27: Garrafa Térmica 1,8 L, tipo “Termolar” | C27: Unidade | D27: 4 | F27: Anual | G27: =D27 -> 4
A28: 5 | B28: Bandeja de aço inox retangular 21,7 x 34,7cm | C28: Unidade | D28: 6 | F28: Anual | G28: =D28 -> 6 | H28: =(E28*G28)/12 -> 0
A29: Valor Mensal | H29: =SUM(H23:H28) -> 0
A30: Obs: Será pago somente o valor efetivamente gasto no mês, mediante a apresentação de documento fiscal.
A32: Equipamentos previstos para o posto de JARDINEIRO
A33: Item | B33: Descrição | C33: Und. De Medida | D33: Qtd. | E33: Preço Unitário | F33: Periodicidade | G33: Qtd. Anual | H33: Valor Mensal
A34: 1 | B34: Carrinho de Mão | C34: Unidade | D34: 1 | F34: Anual | G34: =D34 -> 1 | H34: =(E34*G34)/12 -> 0
A35: 2 | B35: Carrinho plataforma c/ 4 rodas, com grade, capacidade aproximada de 20 a 300kg | C35: Unidade | D35: 1 | F35: Anual | G35: =D35 -> 1 | H35: =(E35*G35)/12 -> 0
A36: 3 | B36: Escada Articulada 16 degraus | C36: Unidade | D36: 1 | F36: Anual | G36: =D36 -> 1 | H36: =(E36*G36)/12 -> 0
A37: 4 | B37: Foice | C37: Unidade | D37: 1 | F37: Anual | G37: =D37 -> 1 | H37: =(E37*G37)/12 -> 0
A38: 5 | B38: Facão para mato 16”, lâmina de aço carbono e cabo de polipropileno | C38: Unidade | D38: 1 | F38: Anual | G38: =D38 -> 1 | H38: =(E38*G38)/12 -> 0
A39: 6 | B39: Kit Jardinagem (escarificador, pás, tesoura) | C39: Unidade | D39: 1 | F39: Anual | G39: =D39 -> 1 | H39: =(E39*G39)/12 -> 0
A40: 7 | B40: Mangueira de jardim 1 polegada | C40: Unidade | D40: 1 | F40: Anual | G40: =D40 -> 1 | H40: =(E40*G40)/12 -> 0
A41: 8 | B41: Mangueira de jardim ½ polegada | C41: Unidade | D41: 1 | F41: Anual | G41: =D41 -> 1 | H41: =(E41*G41)/12 -> 0
A42: 9 | B42: Mangueira microperfurada para irrigação | C42: Rolo 100 m | D42: 2 | F42: Anual | G42: =D42 -> 2 | H42: =(E42*G42)/12 -> 0
A43: 10 | B43: Mangueira para irrigação ¾ com micro-aspersor | C43: Rolo 50 m | D43: 4 | F43: Anual | G43: =D43 -> 4 | H43: =(E43*G43)/12 -> 0
...
